BEGIN:VCALENDAR
VERSION:2.0
PRODID:-//Maison de la Culture de Tahiti - Te Fare Tauhiti Nui - ECPv4.9.10//NONSGML v1.0//EN
CALSCALE:GREGORIAN
METHOD:PUBLISH
X-WR-CALNAME:Maison de la Culture de Tahiti - Te Fare Tauhiti Nui
X-ORIGINAL-URL:https://www.maisondelaculture.pf
X-WR-CALDESC:Évènements pour Maison de la Culture de Tahiti - Te Fare Tauhiti Nui
BEGIN:VTIMEZONE
TZID:Pacific/Tahiti
BEGIN:STANDARD
TZOFFSETFROM:-1000
TZOFFSETTO:-1000
TZNAME:-10
DTSTART:20190101T000000
END:STANDARD
END:VTIMEZONE
BEGIN:VEVENT
DTSTART;TZID=Pacific/Tahiti:20190831T193000
DTEND;TZID=Pacific/Tahiti:20190831T193000
DTSTAMP:20191122T132829
CREATED:20190807T013116Z
LAST-MODIFIED:20190824T010644Z
UID:10934-1567279800-1567279800@www.maisondelaculture.pf
SUMMARY:Une pièce qui a reçu 4 Molières au Grand Théâtre de la Maison de la Culture
DESCRIPTION:La Compagnie du Caméléon présente la pièce de théâtre « Adieu Monsieur HAFFMAN »\, le samedi 31 août et les vendredi 6 et samedi 7 septembre 2019\, à 19h30\, au Grand Théâtre de la Maison de la Culture. Une pièce qui a reçu 4 Molières en 2018 : \n– Meilleur spectacle du théâtre privé\n– Meilleur second rôle\n– Révélation féminine\n– Meilleur auteur francophone vivant \nLe résumé :\nParis\, 1942. Le port de l’étoile jaune pour les Juifs est décrété. Joseph HAFFMANN propose à son employé Pierre VIGNEAU de lui confier sa bijouterie\, s’il accepte de le cacher en attendant que la situation s’améliore. Pierre prendra-t-il le risque d’héberger clandestinement son “ancien” patron dans les murs de la boutique ? Et si oui\, à quelle condition ? \nLa Presse :\n« Quel bonheur de voir une pièce d’une aussi grande qualité qui\, scène après scène\, installe une tension et une émotion incroyablement palpables. Une de ces pièces qui trouvent place dans votre mémoire pour n’en plus sortir…» FROGGY’S DELIGHT \n« Bien écrit\, bien monté\, bien joué\, ce spectacle est un bijou ! » L’OBS \n« Jean-Philippe Daguerre propose une pièce originale\, bien composée\, bien mise en scène et fort bien jouée. Une plongée magistrale dans la dure réalité de cette période noire de la France de Vichy. » LE FIGARO \n« Remarquable à tous points de vue. » LE PARISIEN \nTeaser : https://www.youtube.com/watch?v=S9hK5ND0u1Q  \nInfos pratiques : \nGrand Théâtre\nDurée 1h30\nCompagnie du Caméléon \nSamedi 31 août 2019\, à 19h30\nVendredi 6 et samedi 7 septembre 2019\, à 19h30 \nTarif : \nPremier Hémicycle (tarifs série 1) : \n. Adulte 4 500 F\n. PASS FAMILLE* 12 000 F\n. Etudiant/-18ans 3 000 F\n. – 12 ans 2 500 F \nDeuxième Hémicycle (tarifs série 2) : \n. Adulte 4 000 F\n. PASS FAMILLE* 10 000 F\n. Etudiant/-18ans 3 000 F\n. -12 ans 2 500 F \n– Offre passeport gourmand : une place offerte pour une place achetée valable uniquement le samedi 31 aout. \n* Les PASS FAMILLE sont valables uniquement sur la 1ère représentation (31 août)\, pour une même famille composée de 2 adultes + 2 enfants. \nA partir de 10 ans – Garderie au théâtre : 81 31 40 40 ou elodie@cameleon.pf\nBillets en vente dans les magasins Carrefour Arue\, Faa’a et Punaauia\, à Radio 1 Fare Ute et en ligne sur www.ticket-pacific.pf\nRenseignements sur : Page FB : La Compagnie du Caméléon Tahiti / www.cameleon.pf / 40 544 544 \n
URL:https://www.maisondelaculture.pf/evenement/une-piece-qui-a-recu-4-molieres-au-grand-theatre-de-la-maison-de-la-culture/
LOCATION:Grand Théâtre\, 646 Boulevard Pomare IV\, Papeete\, 98713\, Polynésie Française
CATEGORIES:Spectacles, Concerts, Théatre
ATTACH;FMTTYPE=image/jpeg:https://www.maisondelaculture.pf/cms/wp-content/uploads/2019/07/Cpgn-du-Caméléon-Adieu-Monsieur-Haffman.jpg
ORGANIZER;CN="Maison%20de%20la%20Culture":MAILTO:communication@maisondelaculture.pf
END:VEVENT
END:VCALENDAR