BEGIN:VCALENDAR
VERSION:2.0
PRODID:-//Maison de la Culture de Tahiti - Te Fare Tauhiti Nui - ECPv4.9.10//NONSGML v1.0//EN
CALSCALE:GREGORIAN
METHOD:PUBLISH
X-WR-CALNAME:Maison de la Culture de Tahiti - Te Fare Tauhiti Nui
X-ORIGINAL-URL:https://www.maisondelaculture.pf
X-WR-CALDESC:Évènements pour Maison de la Culture de Tahiti - Te Fare Tauhiti Nui
BEGIN:VTIMEZONE
TZID:Pacific/Tahiti
BEGIN:STANDARD
TZOFFSETFROM:-1000
TZOFFSETTO:-1000
TZNAME:-10
DTSTART:20180101T000000
END:STANDARD
END:VTIMEZONE
BEGIN:VEVENT
DTSTART;TZID=Pacific/Tahiti:20180302T193000
DTEND;TZID=Pacific/Tahiti:20180302T193000
DTSTAMP:20191123T063815
CREATED:20180207T222225Z
LAST-MODIFIED:20180227T001310Z
UID:7762-1520019000-1520019000@www.maisondelaculture.pf
SUMMARY:Théâtre : L'Avare de Molière
DESCRIPTION:La nouvelle adaptation de la Compagnie « Chanpagne\, des idées qui pétillent !!! » \nAprès « le Jeu de l’amour et du hasard » de Marivaux\, « Beaucoup de bruit pour rien » de W Shakespeare\, « On purge Bébé » de G. Feydeau\, « Le Bourgeois gentilhomme » de Molière\nUn homme\, assis sur son or\, confond l’argent et le bonheur. Il est drôle\, sans le vouloir\, méchant\, sans le savoir. Harpagon\, l’avare\, organise pour ses enfants Cléante et Elise des mariages d’intérêt. Il se réserve\, quant à lui\, d’épouser la jeune et charmante Marianne. Mais Cléante qui est amoureux de la jeune fille\, et Elise\, qui s’est fiancée en secret avec Valère\, le faux intendant de la maison\, refusent d’obéir à leur père. Le trésor de l’avare\, volé puis rendu à son propriétaire\, permettra d’exercer un chantage grâce auquel l’amour sera vainqueur.\nHarpagon est omniprésent dans cette comédie qui traite sous une forme burlesque de sujets toujours d’actualité : l’avarice en premier lieu\, mais aussi la tyrannie domestique\, l’égoïsme et le sexisme. Le bourgeois qui a réussi dans les affaires d’argent\, pense pouvoir s’acheter une douceur conjugale pour ses vieux jours\, au mépris des désirs des uns et des autres\, même de ses propres enfants. Au prix d’un coup de théâtre moliéresque\, ses projets sont ruinés et la seule consolation qu’il lui reste est enfermée dans une cassette.\n« L’AVARE » est une des pièces de Molière le plus souvent jouée. Elle est un des fleurons de l’enseignement. Molière s’est largement inspiré de La Marmite une pièce de théâtre de Plaute ( né 254 + 184 av. J.C) auteur comique latin qui a influencé certains des plus grands de la littérature\, entre autres : Shakespeare et Molière.\nEn résumé\, La Compagnie Chanpagne s’est inspirée de Molière\, inspiré par Plaute\, lui-même inspiré par les Grecs\, et a dépoussiéré la pièce avec une mise en scène résolument moderne avec quelques surprises audacieuses… \nLes comédiens : Nicolas Arnould\, Aurore Bazzara\, Catherine Buiron\, Éric Chalons\, Catherine Chanson\, Christophe Desplat-Fleury\, Martine Guichard\, François Jounot\, et Cédric Tchan.\nSéances scolaires le mardi 27 février à 9h00 et le jeudi 1er mars à 9h00 et 13h00. Renseignements au 87 76 61 69 et par mail au chanpagne.tahiti@gmail.com  \n
URL:https://www.maisondelaculture.pf/evenement/theatre-lavare-de-moliere/
LOCATION:Grand Théâtre\, 646 Boulevard Pomare IV\, Papeete\, 98713\, Polynésie Française
CATEGORIES:Newsletter,Spectacles, Concerts, Théatre
ATTACH;FMTTYPE=image/jpeg:https://www.maisondelaculture.pf/cms/wp-content/uploads/2018/02/Affiche-lavare-1.jpg
ORGANIZER;CN="Maison%20de%20la%20Culture":MAILTO:communication@maisondelaculture.pf
END:VEVENT
END:VCALENDAR