BEGIN:VCALENDAR
VERSION:2.0
PRODID:-//Maison de la Culture de Tahiti - Te Fare Tauhiti Nui - ECPv4.9.10//NONSGML v1.0//EN
CALSCALE:GREGORIAN
METHOD:PUBLISH
X-WR-CALNAME:Maison de la Culture de Tahiti - Te Fare Tauhiti Nui
X-ORIGINAL-URL:https://www.maisondelaculture.pf
X-WR-CALDESC:Évènements pour Maison de la Culture de Tahiti - Te Fare Tauhiti Nui
BEGIN:VTIMEZONE
TZID:Pacific/Tahiti
BEGIN:STANDARD
TZOFFSETFROM:-1000
TZOFFSETTO:-1000
TZNAME:-10
DTSTART:20180101T000000
END:STANDARD
END:VTIMEZONE
BEGIN:VEVENT
DTSTART;TZID=Pacific/Tahiti:20180223T193000
DTEND;TZID=Pacific/Tahiti:20180224T193000
DTSTAMP:20191123T070212
CREATED:20180110T211336Z
LAST-MODIFIED:20180201T174947Z
UID:7597-1519414200-1519500600@www.maisondelaculture.pf
SUMMARY:Théâtre : JOVANY
DESCRIPTION:Les 23 et 24 février prochain entrez dans l’univers fantasmagorique de Jovany cette humoriste déjanté qui saura vous convaincre aux travers de ces multiples talents… Rendez-vous au Grand Théâtre pour le découvrir ! \nVainqueur de 22 prix en festival international et gagnant du Prix Raymond DEVOS 2017\, JOVANY nous emmène dans son univers fantasque\, rythmé par des gags et son regard déjanté sur le monde. \n70 minutes de folie dévoilent le vrai visage d’un artiste Survolté\, Comique\, Chanteur\, Moqueur\, Musicien\, Danseur\, Performer\, attachant\, sensible. \nD’ailleurs\, certains pensent qu’il est schizophrène\, c’est faux\, ils sont plus nombreux que ça… Et vous ? Êtes-vous prêt à découvrir cet OVNI de l’Humour ? \nLa presse en parle : \n« FANTASTIQUE et INCLASSABLE » France 3\n« …Ce Spectacle ne se raconte pas\, on va le voir… » LA PROVENCE\n« …un artiste HORS-PISTE… » LE PARISIEN \n
URL:https://www.maisondelaculture.pf/evenement/theatre-jovany/
LOCATION:Grand Théâtre\, 646 Boulevard Pomare IV\, Papeete\, 98713\, Polynésie Française
CATEGORIES:Newsletter,Spectacles, Concerts, Théatre
ATTACH;FMTTYPE=image/jpeg:https://www.maisondelaculture.pf/cms/wp-content/uploads/2018/01/Théâtre-Jovany.jpg
END:VEVENT
END:VCALENDAR