BEGIN:VCALENDAR
VERSION:2.0
PRODID:-//Maison de la Culture de Tahiti - Te Fare Tauhiti Nui - ECPv4.9.10//NONSGML v1.0//EN
CALSCALE:GREGORIAN
METHOD:PUBLISH
X-WR-CALNAME:Maison de la Culture de Tahiti - Te Fare Tauhiti Nui
X-ORIGINAL-URL:https://www.maisondelaculture.pf
X-WR-CALDESC:Évènements pour Maison de la Culture de Tahiti - Te Fare Tauhiti Nui
BEGIN:VTIMEZONE
TZID:Pacific/Tahiti
BEGIN:STANDARD
TZOFFSETFROM:-1000
TZOFFSETTO:-1000
TZNAME:-10
DTSTART:20180101T000000
END:STANDARD
END:VTIMEZONE
BEGIN:VEVENT
DTSTART;TZID=Pacific/Tahiti:20180413T193000
DTEND;TZID=Pacific/Tahiti:20180414T193000
DTSTAMP:20191123T054104
CREATED:20180404T004056Z
LAST-MODIFIED:20180404T005657Z
UID:8131-1523647800-1523734200@www.maisondelaculture.pf
SUMMARY:Théâtre : ECO ou la nouvelle humanité
DESCRIPTION:La compagnie Grand Angle est de retour sur les planches du Petit Théâtre avec leur toute nouvelle création intitulée Eco ou la nouvelle humanité. La troupe sera sur la scène les 13\, 14\, 20 et 21 avril avec cette pièce de théâtre qui se déroule en 2047 où l’amour est interdit. \nLa compagnie : \nAmateurs de théâtre et d’art scénique\, les membres de la troupe se sont rencontrés au sein d’une troupe de théâtre d’improvisation : les Impromaniacs. Après quelques spectacles (Morrison\, Paradise\, sur Moorea\, etc…) certains d’entre eux ont voulu revenir au théâtre à textes dans l’optique de présenter une pièce. \nAprès beaucoup de travail\, de rencontres\, de discussions\, une envie est née\, un projet s’est construit : ils ont décidés d’écrire leur propre pièce et de la mettre en scène par leurs propres moyens. Au terme d’une soirée brainstorming\, ils ont mutualisé leurs désirs\, leurs connaissances\, leurs folies pour sortir une idée. Quelqu’un a dit : « moi je ne veux pas qu’il y ait d’histoire d’amant dans l’armoire ! ». On avait le titre.\nEnsuite l’un des membres de la troupe s’est mis à l’écriture et leur première pièce de théâtre qui s’était jouée sur les planches du Petit Théâtre en avril 2016 est née Pas d’amant dans l’armoire\, pièce à tiroirs. \nC’était le résultat d’une expérience et d’une belle rencontre\, d’un travail de recherches et de découvertes qui a porté ces fruits étant donné que le public était au rendez-vous. Cette jeune troupe est de retour avec une nouvelle création au nom évocateur Eco ou la nouvelle humanité. \nL’Histoire :\nEdencity 2047\, la Grande Néocratie contrôle ce qui reste d’une humanité en partie décimée par une pandémie. Alors que le passé est camouflé et les relations amoureuses interdites\, Paul résiste. Il veut croire que l’humanité goûtera à nouveau la substance de l’amour. ECO est un voyage à travers le temps. C’est aussi une réflexion sur le progrès qui nous asservit et menace tellement de nous échapper. \nPièce d’anticipation présentant une dystopie\nThématique principal : le transhumanisme \n
URL:https://www.maisondelaculture.pf/evenement/theatre-eco-ou-la-nouvelle-humanite/
LOCATION:Petit Théâtre\, 646 Boulevard Pomare IV\, Papeete\, Polynésie Française
CATEGORIES:Newsletter,Spectacles, Concerts, Théatre
ATTACH;FMTTYPE=image/jpeg:https://www.maisondelaculture.pf/cms/wp-content/uploads/2018/04/Théâtre-Eco-ou-la-nouvelle-humanité.jpg
ORGANIZER;CN="Compagnie%20Grand%20Angle":MAILTO:Damspf@hotmail.com
END:VEVENT
END:VCALENDAR