BEGIN:VCALENDAR
VERSION:2.0
PRODID:-//Maison de la Culture de Tahiti - Te Fare Tauhiti Nui - ECPv4.9.10//NONSGML v1.0//EN
CALSCALE:GREGORIAN
METHOD:PUBLISH
X-WR-CALNAME:Maison de la Culture de Tahiti - Te Fare Tauhiti Nui
X-ORIGINAL-URL:https://www.maisondelaculture.pf
X-WR-CALDESC:Évènements pour Maison de la Culture de Tahiti - Te Fare Tauhiti Nui
BEGIN:VTIMEZONE
TZID:Pacific/Tahiti
BEGIN:STANDARD
TZOFFSETFROM:-1000
TZOFFSETTO:-1000
TZNAME:-10
DTSTART:20170101T000000
END:STANDARD
END:VTIMEZONE
BEGIN:VEVENT
DTSTART;TZID=Pacific/Tahiti:20171028T193000
DTEND;TZID=Pacific/Tahiti:20171028T193000
DTSTAMP:20191126T095556
CREATED:20170922T233413Z
LAST-MODIFIED:20171011T201157Z
UID:7070-1509219000-1509219000@www.maisondelaculture.pf
SUMMARY:Terreur chez les Alberline
DESCRIPTION:Après une première représentation en juin dernier\, la pièce de théâtre Terreur chez les Alberline réalisée par la compagnie L’R2Rien nous revient le samedi 28 octobre – même heure et même lieu. Si vous n’avez pas pu la voir c’est le moment ! \nSynopsis\nC’est avant tout un hommage à leur auteur préféré\, qui pousse cette jeune troupe à jouer Terreur chez les Alberline.\nDébut XXème\, dans la demeure des Alberline\, des choses étranges se déroulent\, des objets disparaissent. L’enquête est menée\, la malédiction de la famille ne fait aucun doute ! Comment conjurer le sort ?\nNos chers amateurs vont vite comprendre qu’il faut bien plus que de la bonne volonté pour monter une pièce de théâtre ! Entre oublis et initiatives\, chacun mettra du sien pour pouvoir mener ce beau projet à son terme. Ce sont alors deux histoires qui se mêlent : nos acteurs improvisés se dépêtrant des imprévus accumulés face à celle du complot visant à dépouiller les Alberline. \nQui est la compagnie L’R 2 Rien ?\nEn réactivant la Section Culturelle de l’ATACEM du SEAC/PF (Service d’Etat de l’Aviation Civile en Polynésie française)\, l’idée était de réveiller les esprits sur toutes les possibilités qui permettraient de fédérer l’ensemble des agents\, actifs et retraités.\nParmi celles-ci\, la cellule « théâtre » donne l’occasion de réunir une équipe autour d’un projet exceptionnel.\nLes apprentis comédiens se réunissent ainsi tous les mercredis soir et travaillent tous ensemble en adhérant parfaitement à l’idée de la vie associative qui est un monde où se mêlent don de soi\, générosité et esprit d’équipe…. \nLe metteur en scène – Stéphane LAFFAILLE\nStéphane est comédien\, metteur en scène et formateur. Il a intégré la Compagnie d’Entraînement\, de Création et d’Essai du Théâtre des Ateliers d’Aix en Provence\, dirigée par Alain Simon\, où il reçoit une formation professionnelle. \nIl crée en 1996 avec Katia Meriaux la Compagnie « Métamorphose »\, qui regroupe des enfants et des adolescents d’Eguilles\, avant de monter en 2006 sa compagnie professionnelle « Leo dixit » dans laquelle il joue et anime des ateliers de théâtre amateurs et professionnels. Il monte également deux opéras\, et notamment « Didon et Enée »\, un Opéra de H. Purcell au Festival Opéra au château\, au château d’Alphéran à Puyricard. Il est à l’origine des nocturnes de saint Martin d’Eguilles. \nIl anime également un atelier semi professionnel de théâtre en collaboration avec une compagnie parisienne et crée la compagnie semi-professionnelle « les Rest’Capés » qui se produit dans plusieurs festivals de la région PACA en 2013-2014 (Création saison 2012-2013 : « Vagues souvenirs de l’année de la peste » de Jean-Luc Lagarce dans une mise en scène de S. Laffaille).\nIl travaille au théâtre jusqu’en 2016 sous la direction d’Alain Simon et de Claude Pélopidas\, puis arrive au fenua en juillet 2016. \nIl occupe un poste au SEAC/PF et crée\, dans le cadre de la section « Culturelle » de l’ATACEM (Aviation civile et Météo) l’activité « Théâtre » où il anime tous les mercredi soir des ateliers théâtre pour adultes. De formation technique (Electronicien et Ingénieur en Informatique)\, Stéphane a toujours été passionné d‘Art\, d’Opéra et de Théâtre\, des passions essentielles à sa vie. « J’ai poussé un jour\, la porte d’un Théâtre avec un autre regard : de spectateur devenir acteur. Je veux savoir ce qu’il y a derrière. Je veux savoir jouer\, interpréter et être… Réveillé\, comme bouleversé\, j’ai aimé ce que j’y ai trouvé et depuis chaque instant le théâtre me nourrit ». \nLes comédiens\nMartine BEOVARDI\nThérèse MANSO\nManuel SCHNEIDER\nAgnès BERTHET-BONDET\nQuentin DELPLANQUE\nChristiane LOW\nFrancis HUGUET\nLeyla MOU\nMicheline PARTOUCHE\nVéronique HERSE\nJeanne DIDIERJEAN-TAMBIA\nMireille MORAS \n
URL:https://www.maisondelaculture.pf/evenement/terreur-chez-les-alberline/
LOCATION:Petit Théâtre\, 646 Boulevard Pomare IV\, Papeete\, Polynésie Française
CATEGORIES:Newsletter,Spectacles, Concerts, Théatre
ATTACH;FMTTYPE=image/jpeg:https://www.maisondelaculture.pf/cms/wp-content/uploads/2017/09/Théâtre-Terreur-chez-les-Alberline-de-retour.jpg
ORGANIZER;CN="Maison%20de%20la%20Culture":MAILTO:communication@maisondelaculture.pf
END:VEVENT
END:VCALENDAR