BEGIN:VCALENDAR
VERSION:2.0
PRODID:-//Maison de la Culture de Tahiti - Te Fare Tauhiti Nui - ECPv4.9.10//NONSGML v1.0//EN
CALSCALE:GREGORIAN
METHOD:PUBLISH
X-WR-CALNAME:Maison de la Culture de Tahiti - Te Fare Tauhiti Nui
X-ORIGINAL-URL:https://www.maisondelaculture.pf
X-WR-CALDESC:Évènements pour Maison de la Culture de Tahiti - Te Fare Tauhiti Nui
BEGIN:VTIMEZONE
TZID:Pacific/Tahiti
BEGIN:STANDARD
TZOFFSETFROM:-1000
TZOFFSETTO:-1000
TZNAME:-10
DTSTART:20170101T000000
END:STANDARD
END:VTIMEZONE
BEGIN:VEVENT
DTSTART;TZID=Pacific/Tahiti:20171208T193000
DTEND;TZID=Pacific/Tahiti:20171208T193000
DTSTAMP:20191126T104310
CREATED:20170831T230653Z
LAST-MODIFIED:20171219T200619Z
UID:6924-1512761400-1512761400@www.maisondelaculture.pf
SUMMARY:Spectacle de Noël : La petite marchande d'allumettes
DESCRIPTION:Après un concert de Noël couronné de succès en 2016\, la Maison de la Culture organise cette année un magnifique spectacle de Noël le 8 décembre avec l’Académie de danse Annie Fayn. Près d’une centaine de danseurs seront sur la scène du Grand Théâtre pour vous raconter la célèbre histoire de la Petite marchande d’allumettes… \nLe conte original\nTout le monde se rappelle de ce conte d’une petite fille qui vend ses allumettes dans une rue enneigée la nuit du jour de l’an. Ne trouvant aucun acheteur\, épuisée et gelée\, n’osant rentrer à la maison\, elle se blottit en grelottant dans une encoignure entre deux maisons.\nPour se réchauffer\, elle allume plusieurs allumettes. Eblouie par leur flamme elle y voit différentes scènes de bonheur : un savoureux repas\, un lumineux sapin de noël\, une famille heureuse… Autant de visions qui réchauffent son cœur. Avant de s’endormir et dans la flamme d’une dernière allumette\, elle finit par voir sa grand-mère disparue depuis peu. L’histoire s’achève sur l’image de cette grand-mère qui vient chercher sa petite fille pour l’emmener vers de plus beaux cieux.\nLe lendemain\, on retrouve la petite fille sans vie\, avec un grand sourire aux lèvres. On la croit morte de froid\, ignorant qu’elle a rejoint pour toujours sa grand-mère chérie pour jouir de la félicité céleste. \nLe spectacle\nLa Maison de la Culture a le plaisir de collaborer avec L’Académie de danse Annie Fayn sur cette production. Pour l’occasion\, ce sont 92 artistes de danse classique et contemporaine qui seront sur scène\, sur une interprétation de variations du répertoire tirée du Ballet de Coppelia.\nLe conte sera illustré par sept tableaux qui s’enchaîneront comme suit :\n• La Rue (Contemporain)\n• Soir de Fête : 1ère allumette (classique)\n• Les Poupées : 2e allumette (classique)\n• Le Sapin : 3e allumette (classique)\n• La Neige (Contemporain)\n• Les Etoiles (classique)\n• Noël (Final) \nPour agrémenter le tout\, les danseurs et danseuses évolueront sur une bande son mais également sur les voix d’Emmanuelle Vidal et la chorale Te reo nui qui interpréteront des chants de Noël.\nLe conte d ’Andersen revisité\nAlors qu’Andersen cherchait à dénoncer la misère de son époque\, l’Académie de danse Annie Fayn a souhaité donner à ce conte une dimension contemporaine. En contre-point l’académie a choisi de mettre en exergue la magie de la fête de Noël qui permet de renforcer le lien social en réunissant les familles et plus largement les individus\, en les invitant au rêve.\nLa passerelle est cette petite fille qui essaie de transformer ce quotidien en éclats de vie imaginaires\, le temps d’une allumette enflammée. L’Académie s’attachera à mettre en scène l’imaginaire de cette enfant\, quand elle pense à sa famille\, à des amis qu’elle aurait pu s’inventer… Le public verra au travers de ses yeux ce qu’est la magie de Noël\, ce que sont ses rêves et sa vie. Ainsi l’histoire devient plus chaleureuse\, plus humaine et invite chacun à renouer avec des valeurs de solidarité et d’entre-aide\, essentielles lors de cette période de célébrations.\nDes décors virtuels au service du spectacle\nL’animation vidéo a été faite pour indiquer le contexte : la rue\, la neige\, les apparitions magiques de la grand-mère\, principalement celle des souvenirs de la petite marchande. La grand-mère est ce personnage imaginaire que la petite fille génère pour être un peu moins seule dans cette nuit noire. La vidéo nous permet véritablement d’évoquer le passage à une dimension nouvelle pour l’enfant.\nPour représenter cette Petite Marchande d’Allumettes\, l’Académie de danse Annie Fayn a choisi d’utiliser tous les moyens dont peut disposer le théâtre\, et notamment le son et l’image\, de manière à raconter ce conte grâce aux ressources techniques dont dispose la Maison de la Culture et à mettre en valeur les danseurs sur la scène. Ces choix artistiques et techniques permettront aussi de donner au conte une dimension encore plus puissante pour parler à un jeune public. Le son et l’image seront des passerelles vers ce jeune public en complétant l’histoire dont la chorégraphie illustre la trame. \nCollecte de jouets pour le collectif Ohana \nEn 2016\, la Maison de la Culture s’était associée au collectif Ohana pour contribuer à récolter des jouets. Le dispositif avait très bien fonctionné\, au point que de nombreuses personnes déposaient leurs jouets durant la semaine qui précédait l’événement. Cette année la même opération est mise en place\, un moyen efficace de soutenir l’initiative de Natalia Germain qui\, avec ses bénévoles\, récolte chaque année des peluches\, jeux et jouets pour des enfants ainsi que des vêtements pour enfants et adultes sous la bannière du collectif Ohana.\nLa Maison de la Culture a tenu à s’associer de nouveau à ce collectif dynamique au grand cœur pour contribuer à cette récolte : un bac sera à disposition du public pendant la soirée de spectacle\, mais les dons peuvent être déposés également en journée dans la semaine. L’ensemble des dons doit être en bon état\, la distribution des cadeaux se fera le 25 au matin.\nEn espérant que la collecte soit encore plus fructueuse que l’année passée\, avec pour objectif « que personne ne soit oublié » lors de ce mois de décembre où la joie\, le partage et la solidarité sont de mise. D’autres lieux de dépôt sont prévus\, toutes les informations sont sur la page Face book OHANA TAHITI. \n
URL:https://www.maisondelaculture.pf/evenement/spectacle-de-noel-la-petite-fille-aux-allumettes/
LOCATION:Grand Théâtre\, 646 Boulevard Pomare IV\, Papeete\, 98713\, Polynésie Française
CATEGORIES:Spectacles, Concerts, Théatre
ATTACH;FMTTYPE=image/jpeg:https://www.maisondelaculture.pf/cms/wp-content/uploads/2017/11/TFT_PMA_affiche_finale-rvb.jpg
ORGANIZER;CN="Maison%20de%20la%20Culture":MAILTO:communication@maisondelaculture.pf
END:VEVENT
END:VCALENDAR