BEGIN:VCALENDAR
VERSION:2.0
PRODID:-//Maison de la Culture de Tahiti - Te Fare Tauhiti Nui - ECPv4.9.10//NONSGML v1.0//EN
CALSCALE:GREGORIAN
METHOD:PUBLISH
X-WR-CALNAME:Maison de la Culture de Tahiti - Te Fare Tauhiti Nui
X-ORIGINAL-URL:https://www.maisondelaculture.pf
X-WR-CALDESC:Évènements pour Maison de la Culture de Tahiti - Te Fare Tauhiti Nui
BEGIN:VTIMEZONE
TZID:Pacific/Tahiti
BEGIN:STANDARD
TZOFFSETFROM:-1000
TZOFFSETTO:-1000
TZNAME:-10
DTSTART:20170101T000000
END:STANDARD
END:VTIMEZONE
BEGIN:VEVENT
DTSTART;TZID=Pacific/Tahiti:20170922T200000
DTEND;TZID=Pacific/Tahiti:20170922T200000
DTSTAMP:20191126T120741
CREATED:20170823T025954Z
LAST-MODIFIED:20170921T222005Z
UID:6792-1506110400-1506110400@www.maisondelaculture.pf
SUMMARY:Spectacle du Centre de danse André Tschan
DESCRIPTION:Le Centre de danse André Tschan en coréalisation avec Te Fare Tauhiti Nui – Maison de la Culture\, présente le spectacle AiME de Surya Berthomieux\, invitée de prestige de cet événement et danseuse professionnelle. Rendez-vous le 22 septembre sur la scène du Petit Théâtre dès 20h00 pour vivre 1h15 de pure émotion ! \nQUI EST SURYA BERTHOMIEUX ? \nDanseuse professionnelle\, maintes fois lauréate\, médaillée d’or de concours nationaux et internationaux est également interprète\, soliste et chorégraphe. Surya Berthomieux est l’auteure de plusieurs pièces dont le solo Spirit\, programmé au Festival Diès de Dansa de Barcelone en juillet 2011. Elle participe à la création des pièces Homme | Animal et Water Soul puis à leur diffusion (plus de 200 représentations à travers le monde).\nDans son travail personnel\, elle met à profit sa maîtrise technique provenant d’une formation supérieure pluridisciplinaire au service d’une gestuelle épurée et d’une grande profondeur d’âme. Elle rejoint la compagnie Vendetta Mathea & Co en 2007 et a depuis créé sa compagnie en mars 2013 dans le cadre d’un travail de recherche personnel qui aboutit à la création de la pièce en solo intitulée AiME qui sera dansée au Petit Théâtre. \nLE SPECTACLE : \nDans un premier temps ce sont les participants du stage international de danse qui présenteront une chorégraphie réalisée lors du stage. Puis place aux élèves de la Compagnie André Tschan qui danseront sur une création signée Florence Yhuel. Enfin\, le spectacle se terminera en apothéose avec la prestation de Surya Berthomieux. \nC’est sans nul doute le moment phare du spectacle car durant 40 min la chorégraphe et interprète fera découvrir au public la pièce AiME qui a pour but de mettre en lumière l’énergie de la vie : l’amour.\n« Je souhaite faire ressentir des émotions\, dévoiler nos tiraillements intérieurs\, exprimer la lutte dans laquelle chacun tombe pour protéger sa personne\, pour\, au bout du compte\, mettre en lumière ce qu’il y a derrière la souffrance\, ce qui est l’énergie de la vie : l’amour. Révéler cette sensation que l’amour a\, malgré tout\, toujours été en nous » explique Surya. \nLa presse en parle:\n« […] Une pièce superbement dansée – il faut suivre Surya Berthomieux. »\nPhilippe Verrièle – Danser – Festival d’Avignon – France \n« […] époustouflante de grâce féline et de virtuosité […] »\nKathy Hanin – Midi Libre – Festival d’Avignon – France \n« […] Surya Berthomieux is especially impressive.\nHer fluid\, organic movements and wide eyed expressions mixed with her ability to be poised and precise when necessary truly capture the two subjects of the piece; animal and human […] » Ashley Stein – Female Arts – Edinburgh – Scotland \nDu 18 au 22 septembre :\nStage International de danse avec Mathea Vendetta et Surya Berthomieux. \nChorégraphe\, pédagogue et plasticienne\, Mathea Vendetta est spécialiste du mouvement au National Endowment for the Arts de Washington. Formée par de grands maîtres de la danse à leurs techniques (Graham\, Limon\, Dunham…) de Détroit aux tournées européennes (soliste de la compagnie Walter Nicks) en passant par New York (Juilliard et enseignement).\nVendetta Mathea parcourt le monde depuis le début de sa carrière et encore tout récemment dans le cadre des tournées à succès Homme Animal et Water Soul\, pièces créées en 2009 et 2012 en Avignon\, New York\, Paris\, Barcelone et à Aurillac. \nCe stage aura lieu du 18 au 22 septembre et sera assuré par Mathea Vendetta et Surya Berthomieux. Il s’adresse aux enfants à partir de 10 ans jusqu’aux adultes et propose plusieurs niveaux : \n– Cours de danse Contemporaine avec Surya Berthomieux\n– Cours de Jazz avec Vendetta Mathea\n– un atelier chorégraphique destiné à monter une courte pièce qui sera présentée lors du spectacle le 22 septembre au Petit Théâtre \nLE CENTRE DE DANSE ANDRÉ TSCHAN \nDepuis 1974\, le Centre De Danse TSCHAN demeure le premier grand centre de formation en danse Classique\, Contemporaine et Jazz de Polynésie Française. La qualité de son enseignement n’est plus à démontrer. Innovant\, précurseur à Tahiti des 1ers stages internationaux\, de la danse Contemporaine\, du cursus Danse Passion\, des Préparation aux concours…. Il est devenu incontournable sur le Territoire.\nSon équipe pédagogique qualifiée et diplômée assure depuis 15 ans la réussite de jeunes danseurs polynésiens à l’entrée de grandes écoles de formation en Métropole telles l’Opéra de Paris\, le CNSMD de Paris\, l’AID\, Rosella Hightower etc.\nLa qualité\, la rigueur et le plaisir\, clés de voûte de notre enseignement sont mis au profit d’un cursus complet. \nAfin d’affirmer une démarche de création originale\, le Centre TSCHAN développe en son sein un JEUNE BALLET et sa propre COMPAGNIE de danseurs. Ces 2 structures sont l’occasion pour le Centre d’organiser d’authentiques rencontres artistiques permettant de sensibiliser ses jeunes danseurs au travail de professionnels reconnus. Formation\, perfectionnement\, enrichissement sont les mots clés de ces rencontres toutes généreuses.\nLe Jeune Ballet TSCHAN a pour vocation de former et d’accompagner les jeunes danseurs filles & garçons âgés de 10 à 15ans en proposant un enseignement technique pluridisciplinaire de qualité qui développe la personnalité\, la curiosité et la sensibilité artistique de chacun. Ces jeunes talents sont destinés à intégrer la Compagnie du Centre. \nLa COMPAGNIE TSCHAN créée en 2005 réunit quelques-uns des meilleurs danseurs du Centre\, tous passionnés et pluridisciplinaires. Le chorégraphe Quentin Rouillier a créé pour la Cie la chorégraphie « Frissons » qui a été dansé en 2011 à la Maison de la Culture.\nFlorence Vitrac\, Tibor Horvath\, Adam Blanch\, professeurs de renommée internationale\, ont depuis signé des chorégraphies transmises lors des différents STAGES INTERNATIONAUX pour être dansées régulièrement au Grand théâtre de la Maison de la Culture.\nLe spectacle AIME\, fait échos aux précédents projets développés avec la Cie “Dansomania” d’A.M PORRAS\, avec Déborah Casamatta danseuse à « Ballet Preljocaj »\, Yann Cardin danseur de la Cie « Mi-Octobre » de Serge Ricci ou Steve Guimaraes danseur Blanca Li etc.\nLa Cie TSCHAN est également régulièrement sollicitée pour danser lors de manifestations diverses du paysage local pour présenter ses propres créations chorégraphiées principalement par Florence YHUEL. \n
URL:https://www.maisondelaculture.pf/evenement/spectacle-de-lecole-de-danse-andre-tschan/
LOCATION:Boulevard Pomare\, Papeete\, 98713\, Polynésie Française
CATEGORIES:Newsletter,Spectacles, Concerts, Théatre
ATTACH;FMTTYPE=image/jpeg:https://www.maisondelaculture.pf/cms/wp-content/uploads/2017/09/Spectacle-de-danse-AIME.jpg
ORGANIZER;CN="Maison%20de%20la%20Culture":MAILTO:communication@maisondelaculture.pf
END:VEVENT
END:VCALENDAR