BEGIN:VCALENDAR
VERSION:2.0
PRODID:-//Maison de la Culture de Tahiti - Te Fare Tauhiti Nui - ECPv4.9.10//NONSGML v1.0//EN
CALSCALE:GREGORIAN
METHOD:PUBLISH
X-WR-CALNAME:Maison de la Culture de Tahiti - Te Fare Tauhiti Nui
X-ORIGINAL-URL:https://www.maisondelaculture.pf
X-WR-CALDESC:Évènements pour Maison de la Culture de Tahiti - Te Fare Tauhiti Nui
BEGIN:VTIMEZONE
TZID:Pacific/Tahiti
BEGIN:STANDARD
TZOFFSETFROM:-1000
TZOFFSETTO:-1000
TZNAME:-10
DTSTART:20190101T000000
END:STANDARD
END:VTIMEZONE
BEGIN:VEVENT
DTSTART;TZID=Pacific/Tahiti:20190829T080000
DTEND;TZID=Pacific/Tahiti:20190829T170000
DTSTAMP:20191122T130842
CREATED:20190829T220422Z
LAST-MODIFIED:20190912T183010Z
UID:11035-1567065600-1567098000@www.maisondelaculture.pf
SUMMARY:S'abonner à la médiathèque
DESCRIPTION:Pour s’inscrire\, il suffit de présenter une pièce d’identité et un justificatif de résidence.(une quittance d’électricité par ex)\nPour emprunter\, il faut être titulaire d’une carte d’adhérent d’une validité d’un an ou de six mois\, selon votre choix. Cette carte vous permet d’emprunter trois livres et 3 CD ou DVD maximum pendant 3 semaines. La Maison de la Culture propose des tarifs dégressifs par famille. Les tarifs ci-dessous incluent l’accès à la vidéothèque et au cyber espace. Les consultations sur place sont gratuites.\n \nBibliothèque Adultes\nAbonnement annuel : \n–          Adolescent : 3 000 Fcfp\n–          Adulte : 5 000 Fcfp\nL’abonnement en Bibliothèque adulte donne également accès aux offres pressreader\, Numilog et à la discothèque Vidéothèque ainsi qu’au cyber espace.\n \nAbonnement semestriel :\n–          Adolescent : 2 000 Fcfp\n–          Adultes : 3 000 Fcfp\n \nBibliothèque Enfants\nAbonnement annuel :\n–          Enfant (13 ans et moins) : 3 000 Fcfp\nL’abonnement en Bibliothèque enfants donne également accès  à la discothèque Vidéothèque ainsi qu’au cyber espace.\n \nAbonnement semestriel :\n–          Enfant (13 ans et moins) : 2 000 Fcfp\n \n \nTarifs dégressifs pour les ados et enfants d’une même fratrie concernant les abonnements en bibliothèque adultes et enfants.\n
URL:https://www.maisondelaculture.pf/evenement/sabonner-a-la-mediatheque/
LOCATION:Boulevard Pomare\, Papeete\, 98713\, Polynésie Française
CATEGORIES:Médiathèque
ATTACH;FMTTYPE=image/jpeg:https://www.maisondelaculture.pf/cms/wp-content/uploads/2019/05/tom-hermans-264015-unsplash.jpg
ORGANIZER;CN="Maison%20de%20la%20Culture":MAILTO:communication@maisondelaculture.pf
END:VEVENT
END:VCALENDAR