BEGIN:VCALENDAR
VERSION:2.0
PRODID:-//Maison de la Culture de Tahiti - Te Fare Tauhiti Nui - ECPv4.9.10//NONSGML v1.0//EN
CALSCALE:GREGORIAN
METHOD:PUBLISH
X-WR-CALNAME:Maison de la Culture de Tahiti - Te Fare Tauhiti Nui
X-ORIGINAL-URL:https://www.maisondelaculture.pf
X-WR-CALDESC:Évènements pour Maison de la Culture de Tahiti - Te Fare Tauhiti Nui
BEGIN:VTIMEZONE
TZID:Pacific/Tahiti
BEGIN:STANDARD
TZOFFSETFROM:-1000
TZOFFSETTO:-1000
TZNAME:-10
DTSTART:20180101T000000
END:STANDARD
END:VTIMEZONE
BEGIN:VEVENT
DTSTART;TZID=Pacific/Tahiti:20180720T180000
DTEND;TZID=Pacific/Tahiti:20180721T180000
DTSTAMP:20191123T071514
CREATED:20171219T213356Z
LAST-MODIFIED:20180629T003839Z
UID:7548-1532109600-1532196000@www.maisondelaculture.pf
SUMMARY:Soirées des lauréats et Ta'upiti i To'atā
DESCRIPTION:VENDREDI 20 JUILLET – 18h00  : Soirée des lauréats \nC’est l’une des plus belles soirées du Heiva i Tahiti puisque tous les vainqueurs en catégorie chant et danse se retrouve une seconde fois sur la scène de To’ata. Ils sont fières et heureux d’avoir remporté ce concours  et nos le montre avec ferveur ce soir là ! \nSAMEDI 21 JUILLET – 18h00  : Soirée Taupiti \nVoici une deuxième soirée extraordinaire\, tous les groupes de danse en Hura Tau et Hura Ava Tau qui ont remporté le 2ème et 3ème prix nous font l’immense plaisir de revenir sur scène afin que l’on contemple l’étendu de leur talent ! \nTarifs de la soirée des lauréats :\nTribune centrale : 4 000 Fcfp (adultes) / 1 500 Fcfp (enfants de 2 à 11 ans) / 1 500 Fcfp (PMR + accompagnateur) /– de 2 ans : Gratuit sur demande d’un billet BB\nTribunes latérales : 2 500 Fcfp (adultes) / 1 000 Fcfp (enfants de 2 à 11 ans) / 1 500 Fcfp (PMR + accompagnateur) /– de 2 ans : Gratuit sur demande d’un billet BB* \nVente des places uniquement à la Maison de la Culture et en ligne sur www.heiva.org\nNous n’acceptons que les francs pacifiques\, merci de faire le change de vos devises.\nCarte bancaire dont Amex et JCB acceptées\n* Les enfants de moins de deux ans doivent avoir un ticket « bébé » à demander à la caisse. \nDates et horaires des ventes :\nDu lundi au jeudi de 8h à 17h\, vendredi de 8h à 16h\nLes soirs de spectacle 1h30 avant le début de la soirée. \n
URL:https://www.maisondelaculture.pf/evenement/remise-des-prix-heiva-i-tahiti-2018/
LOCATION:Place To’atā\, Papeete\, Polynésie Française
CATEGORIES:Newsletter,Spectacles, Concerts, Théatre
ATTACH;FMTTYPE=image/jpeg:https://www.maisondelaculture.pf/cms/wp-content/uploads/2017/12/Affiche-OFF-HEIVA-I-TAHITI-2018.jpg
ORGANIZER;CN="Maison%20de%20la%20Culture":MAILTO:communication@maisondelaculture.pf
END:VEVENT
END:VCALENDAR