BEGIN:VCALENDAR
VERSION:2.0
PRODID:-//Maison de la Culture de Tahiti - Te Fare Tauhiti Nui - ECPv4.9.10//NONSGML v1.0//EN
CALSCALE:GREGORIAN
METHOD:PUBLISH
X-WR-CALNAME:Maison de la Culture de Tahiti - Te Fare Tauhiti Nui
X-ORIGINAL-URL:https://www.maisondelaculture.pf
X-WR-CALDESC:Évènements pour Maison de la Culture de Tahiti - Te Fare Tauhiti Nui
BEGIN:VTIMEZONE
TZID:Pacific/Tahiti
BEGIN:STANDARD
TZOFFSETFROM:-1000
TZOFFSETTO:-1000
TZNAME:-10
DTSTART:20170101T000000
END:STANDARD
END:VTIMEZONE
BEGIN:VEVENT
DTSTART;TZID=Pacific/Tahiti:20171014T180000
DTEND;TZID=Pacific/Tahiti:20171014T180000
DTSTAMP:20191126T101058
CREATED:20170922T221128Z
LAST-MODIFIED:20171011T194719Z
UID:7052-1508004000-1508004000@www.maisondelaculture.pf
SUMMARY:Projections : La nuit des publivores
DESCRIPTION:La nuit des publivores\, ambiance assurée !\nAprès le succès de la première édition\, Tahiti Expert Events présente la deuxième Nuit des publivores le 14 octobre. Dédiée aux amateurs de publicité\, cette nouvelle édition promet d’être encore plus festive et amusante que la précédente !\nL’espace d’une nuit\, laissez-vous submerger par un tsunami de films publicitaires internationaux délirants de créativité\, esthétiques\, exotiques\, kitsch\, et surtout drôles ! \nUn rendez-vous incontournable\nNée à Paris\, la Nuit des Publivores est devenue en 37 ans le rendez-vous incontournable des amoureux du cinéma publicitaire sur les 5 continents. Oubliez le côté commercial des films et venez apprécier leurs qualités artistiques et cinématographiques.\nPartagez des émotions lors d’une soirée où on exprime librement son opinion par rapport aux pubs sélectionnées : on éclate de rire\, on crie\, on applaudit\, on siffle… \nLe spectacle est autant sur l’écran que dans la salle\nLa Nuit des Publivores\, c’est aussi des spectacles sur scène\, des jeux\, des animations très décalées en ouverture du programme et aux entr’actes ! A Tahiti\, sifflets et autres clap-claps rythment les réactions du public\, tandis que les animateurs rivalisent d’inventivité pour amuser les spectateurs. \nDu #partage\, des #cadeaux\, des #surprises aux entr’actes !\nLes cadeaux aux spectateurs font partie\, depuis le début de l’aventure\, de la «Culture Publivore». Chaque année et selon les villes\, nos partenaires vous offrent des boissons\, encas\, snacks\, glaces\, friandises\, pour que votre Nuit soit encore plus savoureuse…\nEnfin\, en venant à la Nuit des Publivores\, nos spectateurs contribuent au maintien de la seule cinémathèque de films publicitaires au monde\, véritable mémoire du secteur publicitaire français et international. \nLa 1ère édition : \nEn 2016\, la Nuit des Publivores s’est tenue en octobre durant deux soirées\, au Grand Théâtre de la Maison de la Culture. Avec une communication réfléchie et ciblée\, ces deux soirées ont rassemblé un total de 900 personnes de toutes tranches d’âge.\nAu-delà de la projection de publicités du monde entier en salle\, le public a pu profiter d’une ambiance festive avec une programmation de jeux et d’animations complète mais également dans la fan zone\, où une panoplie d’animations était proposée\, animée par un DJ et nos hôtesses qui ont su rendre l’expérience de la Nuit des Publivores unique et originale. \nLe thème 2017 : Universal Love\nLe thème « UNIVERSAL LOVE » n’a pas été choisi au hasard pour cette 37ème édition de La Nuit des Publivores. \nSavez-vous que La Nuit des Publivores est le spectacle international le plus ancien au monde après Holiday on Ice ?\nCela fait maintenant deux ans que Tahiti Expert Events partage avec le public polynésien sa passion pour la publicité créative sous un angle cinématographique. Le 14 octobre\, au Grand Théâtre de la Maison de la Culture\, la Nuit des Publivores se tiendra pour une deuxième édition riche en émotion.\nEt comme amour rime avec humour\, nous vous garantissons encore cette année des perles publicitaires en provenance d’une cinquantaine de pays\, aussi drôles que créatives\, exotiques\, émouvantes\, artistiques… \nLes animations et invités : \nLes All-in-one\, le plus célèbre de nos groupes de hip-hop\, sacré champion de France en 2017\, revient sur scène pour vous offrir le meilleur de la danse dans un show déjanté ! L’artiste graffeur JOPS réalisera une œuvre en live ; un espace spécial VIP sera aménagé avec bar à cocktails alcoolisés tandis qu’un atelier de tatouages éphémères sera mis en place avec de faux tatouages-stickers sur le thème “Love”.\nUn jeu de tir à l’arc sera accessible aux petits comme aux grands\, il s’agit de l’« Archery Tag » tandis que le public pourra assister à un show d’acrobatie aérienne plein de poésie et réalisé par Sébastien et Cathya\, références internationales dans la discipline. \nUne zone de speed dating sera également mise en place pour les célibataires de la soirée\, le bon moyen de passer un moment amusant ou peut-être vous rencontrerez le partenaire de votre vie. \nLe tout sera animé par un set d’un des DJ de la place. \n
URL:https://www.maisondelaculture.pf/evenement/projections-la-nuit-des-publivores/
LOCATION:Grand Théâtre\, 646 Boulevard Pomare IV\, Papeete\, 98713\, Polynésie Française
CATEGORIES:Newsletter,Projections, rencontres
ATTACH;FMTTYPE=image/jpeg:https://www.maisondelaculture.pf/cms/wp-content/uploads/2017/09/Projections-La-nuit-des-publivores.jpg
ORGANIZER;CN="Tahiti%20Expert%20Events":MAILTO:kaha@tahiti-expert-events.com
END:VEVENT
END:VCALENDAR