BEGIN:VCALENDAR
VERSION:2.0
PRODID:-//Maison de la Culture de Tahiti - Te Fare Tauhiti Nui - ECPv4.9.10//NONSGML v1.0//EN
CALSCALE:GREGORIAN
METHOD:PUBLISH
X-WR-CALNAME:Maison de la Culture de Tahiti - Te Fare Tauhiti Nui
X-ORIGINAL-URL:https://www.maisondelaculture.pf
X-WR-CALDESC:Évènements pour Maison de la Culture de Tahiti - Te Fare Tauhiti Nui
BEGIN:VTIMEZONE
TZID:Pacific/Tahiti
BEGIN:STANDARD
TZOFFSETFROM:-1000
TZOFFSETTO:-1000
TZNAME:-10
DTSTART:20190101T000000
END:STANDARD
END:VTIMEZONE
BEGIN:VEVENT
DTSTART;TZID=Pacific/Tahiti:20191123T190000
DTEND;TZID=Pacific/Tahiti:20191123T190000
DTSTAMP:20191117T112028
CREATED:20191031T211407Z
LAST-MODIFIED:20191031T211523Z
UID:11442-1574535600-1574535600@www.maisondelaculture.pf
SUMMARY:Nonosina sur To’atā\, avec Te a’a
DESCRIPTION:Nonosina nous fait l’amitié de venir régulièrement en Polynésie présenter ses créations\, son cheminement\, son interprétation fraîche et dynamique du ‘ori Tahiti. Ce sont plus de 150 de danseurs qui viennent cette année\, menés par Tiana Liufau\, pour nous présenter leur nouveau spectacle : Te A’a. \nNonosina\, « l’oiseau blanc » voyage de la Californie au Japon. \nLa troupe Nonosina a été créée en 1965 en Californie par l’arrière-grand-mère du chef de groupe actuel\, Estella Reid. Portée par son amour pour la danse polynésienne\, elle s’installe en Californie et fait du groupe de danse une entreprise familiale. \nSa plus jeune fille Riki perpétue son enseignement tout en s’orientant résolument vers les danses polynésiennes. Le groupe participe à de nombreuses compétitions et se fait rapidement un nom. C’est ensuite le fils aîné de Riki\, Mevina\, qui prend sa suite à la tête de l’école en 1998.   La même année\, Mevina vient pour quelques semaines en vacances et se passionne pour la danse. Il reste aussi longtemps que son visa le lui permet\, participe au Heiva et gagne avec O Tahiti e la récompense suprême\, avec le spectacle Tapa’o. \nLe groupe s’illustre dans de nombreux concours comme le Heiva i Honolulu dans les catégories amateur et professionnel\, ou encore le San José Tahiti Fete\, dans laquelle Nonosina est resté invaincu de 1996 à 2002. La renommée du groupe s’accroit avec les années et l’école attire des centaines de danseurs aux origines variées. Venus des Samoa\, de Fidji\, des Tonga\, de Hawaii\, des Philippines\, tous partagent ce même amour pour le Ori Tahiti. Le succès de cette formation a d’ailleurs fait des émules\, ce qui atteste de sa qualité et deux écoles sont nées à Hawaii : une à Oahu et l’autre à Kona. \nL’école est gérée depuis 2013 par Tiana Liufau\, sœur de Mevina et longtemps chef d’orchestre du groupe. Elle ramène aujourd’hui son groupe afin que Nonosina\, « l’oiseau blanc »\, vole sans cesse vers de nouveaux horizons\, porté par sa passion. \n« Te A’a »\, une exploration des origines. \nCe spectacle explore l’origine du son à travers le ‘ori tahiti. La famille Nonosina est profondément attachée à ses racines des îles Samoa à Hawaii et c’est pour cela que le groupe proposera également du hula sous la direction de Māhealani Mika et du siva samoa dirigé par Kuegi. \nUne magnifique occasion de célébrer les 54 ans du groupe Nonosina ! \n  \n\nInformations pratiques : \nSpectacle :  Te A’a de Nonosina \nNonosina Tahiti  \nSamedi 23 novembre 2019\, à 19h00\nBillets en vente dans les magasins Carrefour Arue\, Faa’a et Punaauia\, à Radio 1 Fare Ute\, et en ligne sur www.ticket-pacific.pf. \nRenseignements au 40 434 100\nAire de spectacle de To’atā\n
URL:https://www.maisondelaculture.pf/evenement/nonosina-sur-toata-avec-te-aa/
LOCATION:Place To’atā\, Papeete\, Polynésie Française
CATEGORIES:Newsletter,Spectacles, Concerts, Théatre
ATTACH;FMTTYPE=image/jpeg:https://www.maisondelaculture.pf/cms/wp-content/uploads/2019/10/Nonosina-Te-aa-web-rvb-2.jpg
ORGANIZER;CN="Maison%20de%20la%20Culture":MAILTO:communication@maisondelaculture.pf
END:VEVENT
END:VCALENDAR