BEGIN:VCALENDAR
VERSION:2.0
PRODID:-//Maison de la Culture de Tahiti - Te Fare Tauhiti Nui - ECPv4.9.10//NONSGML v1.0//EN
CALSCALE:GREGORIAN
METHOD:PUBLISH
X-WR-CALNAME:Maison de la Culture de Tahiti - Te Fare Tauhiti Nui
X-ORIGINAL-URL:https://www.maisondelaculture.pf
X-WR-CALDESC:Évènements pour Maison de la Culture de Tahiti - Te Fare Tauhiti Nui
BEGIN:VTIMEZONE
TZID:Pacific/Tahiti
BEGIN:STANDARD
TZOFFSETFROM:-1000
TZOFFSETTO:-1000
TZNAME:-10
DTSTART:20170101T000000
END:STANDARD
END:VTIMEZONE
BEGIN:VEVENT
DTSTART;TZID=Pacific/Tahiti:20170303T193000
DTEND;TZID=Pacific/Tahiti:20170304T193000
DTSTAMP:20191123T175146
CREATED:20170217T030331Z
LAST-MODIFIED:20170303T193250Z
UID:5825-1488569400-1488655800@www.maisondelaculture.pf
SUMMARY:M-Pol'Arts fait son cinéma
DESCRIPTION:« M’Pol Arts fait son cinéma…» et nous remémore les films mythiques de ces 50 dernières années sur une succession de tableaux rythmés et colorés. Des films romantiques aux westerns en passant par les comédies musicales\, venez découvrir un spectacle d’évasion\, d’amour\, d’action\, de suspense et de fous rires ! Rendez-vous les 3 & 4 mars prochains à 19h00 au Grand Théâtre de la Maison de la Culture pour une soirée époustouflante ! \nUn show aérien par M-Pol’Arts \nCe spectacle de plus d’une heure alliera plusieurs disciplines sportives et aériennes telles que le pole Art\, le tissu\, le hamac aérien et le cerceau aérien\, la contorsion et la danse acrobatique. \nDe grands artistes et champions internationaux se joindront à l’école à l’occasion de ces représentations : Natalia Tatarintseva – Championne du monde de Pole Dance 2016 ;  Evgeny Greshilov – 5 fois Champion international de Pole Art ; Kira Noire – Gagnante du Concours Pole Expo Las Vegas 2016 ; Tatiana Thomas – Performeuse Aérienne & Artiste de cirque à la renommée internationale ; Amandine Lutine – 3ème au Championnat de France de Pole Dance 2016 ; Evgeny Kot – Chorégraphe / Metteur en scène renommé en Europe. \nL’école M-Pol’Arts \nEmilie Sartres a ouvert son école il y a deux ans dans la ville de Papeete sur l’Avenue du Régent Paraita du côté de Taunoa. Elle accueille aujourd’hui une soixantaine d’élèves et s’apprête à ouvrir une deuxième salle à Punaauia. \nPour participer à ces cours nul besoin d’être un spécialiste des acrobaties\, ni même d’être un sportif de haut niveau car Emilie ouvre les portes de son école à toutes les personnes curieuses et surtout désireuses d’apprendre l’art du pole dance… le reste viendra au fur et à mesure ! \n
URL:https://www.maisondelaculture.pf/evenement/mpol-arts-fait-son-chaud/
LOCATION:Grand Théâtre\, 646 Boulevard Pomare IV\, Papeete\, 98713\, Polynésie Française
CATEGORIES:Newsletter,Spectacles, Concerts, Théatre
ATTACH;FMTTYPE=image/jpeg:https://www.maisondelaculture.pf/cms/wp-content/uploads/2017/02/Spectacle-aérien-MPol-Arts-fait-son-cinéma.jpg
END:VEVENT
END:VCALENDAR