BEGIN:VCALENDAR
VERSION:2.0
PRODID:-//Maison de la Culture de Tahiti - Te Fare Tauhiti Nui - ECPv4.9.10//NONSGML v1.0//EN
CALSCALE:GREGORIAN
METHOD:PUBLISH
X-WR-CALNAME:Maison de la Culture de Tahiti - Te Fare Tauhiti Nui
X-ORIGINAL-URL:https://www.maisondelaculture.pf
X-WR-CALDESC:Évènements pour Maison de la Culture de Tahiti - Te Fare Tauhiti Nui
BEGIN:VTIMEZONE
TZID:Pacific/Tahiti
BEGIN:STANDARD
TZOFFSETFROM:-1000
TZOFFSETTO:-1000
TZNAME:-10
DTSTART:20170101T000000
END:STANDARD
END:VTIMEZONE
BEGIN:VEVENT
DTSTART;TZID=Pacific/Tahiti:20170823T190000
DTEND;TZID=Pacific/Tahiti:20170824T190000
DTSTAMP:20191126T135228
CREATED:20170724T233519Z
LAST-MODIFIED:20170726T212416Z
UID:6586-1503514800-1503601200@www.maisondelaculture.pf
SUMMARY:LM SHOW : Ambiance assurée
DESCRIPTION:Le LM Show\, c’est cette émission de divertissement enregistrée dans le Grand Théâtre et qui fait chaque fois salle comble. Devant des spectateurs enthousiastes se succèdent sur scène les groupes de danse\, les orchestres\, les comiques\, le tout rythmé par notre duo de choc : Emere et Mario. On se croirait revenu au temps du Quinn’s\, qui avait marqué toute la population tahitienne dans les années 60. Tenues fleuries\, têtes couronnées\, le spectacle est autant dans la salle que sur scène ! \nCette émission de divertissement est enregistrée dans les conditions de direct au Grand Théâtre\, et permet de soutenir des associations dans leurs projets. Une urne est à la disposition du public pour faire des dons. \nMercredi 23 août \nJeudi 24 août \n
URL:https://www.maisondelaculture.pf/evenement/lm-show/
LOCATION:Boulevard Pomare\, Papeete\, 98713\, Polynésie Française
CATEGORIES:Newsletter,Spectacles, Concerts, Théatre
ATTACH;FMTTYPE=image/jpeg:https://www.maisondelaculture.pf/cms/wp-content/uploads/2017/03/LM-Show-affiche.jpg
END:VEVENT
END:VCALENDAR