BEGIN:VCALENDAR
VERSION:2.0
PRODID:-//Maison de la Culture de Tahiti - Te Fare Tauhiti Nui - ECPv4.9.10//NONSGML v1.0//EN
CALSCALE:GREGORIAN
METHOD:PUBLISH
X-WR-CALNAME:Maison de la Culture de Tahiti - Te Fare Tauhiti Nui
X-ORIGINAL-URL:https://www.maisondelaculture.pf
X-WR-CALDESC:Évènements pour Maison de la Culture de Tahiti - Te Fare Tauhiti Nui
BEGIN:VTIMEZONE
TZID:Pacific/Tahiti
BEGIN:STANDARD
TZOFFSETFROM:-1000
TZOFFSETTO:-1000
TZNAME:-10
DTSTART:20190101T000000
END:STANDARD
END:VTIMEZONE
BEGIN:VEVENT
DTSTART;TZID=Pacific/Tahiti:20190612T143000
DTEND;TZID=Pacific/Tahiti:20190612T143000
DTSTAMP:20191122T142132
CREATED:20190601T000916Z
LAST-MODIFIED:20190615T015300Z
UID:10516-1560349800-1560349800@www.maisondelaculture.pf
SUMMARY:L’heure du Conte : La légende de Teriitaumatatini – Légende de Polynésie
DESCRIPTION:Léonore Canéri a choisi ce mois-ci un conte polynésien intitulé La légende de Teriitaumatatini. Cette conteuse professionnelle a le talent de raconter les histoires aux enfants\, qui très vite se retrouvent emportés dans un univers magique. Comme chaque mois\, elle vous donne rendez-vous en bibliothèque enfants à 14h30\, le mercredi 12 juin 2019 pour découvrir ce conte. \nL’histoire : \n A Paea règne un arii de la fameuse famille des Oropaa. Adoré par son peuple\, il se retrouve confronté au prince Teva de Papara qui veut s’emparer de ses terres riches et prospères. Secrètement\, ce dernier avec son armée envahit\, par une nuit sans lune\, les terres généreuses de Paea. C’est un véritable drame\, même le arii de Paea est tué. Son fils adolescent\, Teriihaumatatini\, caché par les serviteurs du roi dans la vallée d’Orofero se sauve et va défier Teva lorsqu’il apprend la nouvelle de la mort de son père… \n  \nInfos pratiques : \nHeure du Conte pour les enfants : La légende de Teriitaumatatini – Légende de Polynésie \nLéonore Canéri / TFTN\nMercredi 12 juin 2019 – 14h30\nEntrée libre\nRenseignements au 40 544 541 / Page Facebook : maison de la culture de Tahiti\nBibliothèque enfants \n
URL:https://www.maisondelaculture.pf/evenement/lheure-du-conte-la-legende-de-teriitaumatatini-legende-de-polynesie/
LOCATION:Bibliothèque enfants\, 646 Boulevard Pomare IV\, Papeete\, Polynésie Française
CATEGORIES:Animations jeunesse
ATTACH;FMTTYPE=image/jpeg:https://www.maisondelaculture.pf/cms/wp-content/uploads/2019/06/Heure-du-conte-juin-2019.jpg
ORGANIZER;CN="Maison%20de%20la%20Culture":MAILTO:communication@maisondelaculture.pf
END:VEVENT
END:VCALENDAR