BEGIN:VCALENDAR
VERSION:2.0
PRODID:-//Maison de la Culture de Tahiti - Te Fare Tauhiti Nui - ECPv4.9.10//NONSGML v1.0//EN
CALSCALE:GREGORIAN
METHOD:PUBLISH
X-WR-CALNAME:Maison de la Culture de Tahiti - Te Fare Tauhiti Nui
X-ORIGINAL-URL:https://www.maisondelaculture.pf
X-WR-CALDESC:Évènements pour Maison de la Culture de Tahiti - Te Fare Tauhiti Nui
BEGIN:VTIMEZONE
TZID:Pacific/Tahiti
BEGIN:STANDARD
TZOFFSETFROM:-1000
TZOFFSETTO:-1000
TZNAME:-10
DTSTART:20190101T000000
END:STANDARD
END:VTIMEZONE
BEGIN:VEVENT
DTSTART;TZID=Pacific/Tahiti:20191009T143000
DTEND;TZID=Pacific/Tahiti:20191009T143000
DTSTAMP:20191122T121054
CREATED:20191001T195021Z
LAST-MODIFIED:20191002T004700Z
UID:11292-1570631400-1570631400@www.maisondelaculture.pf
SUMMARY:L’heure du Conte : La fille et le lion – Légende du Maroc
DESCRIPTION:Léonore Canéri a choisi ce mois-ci un conte marocain intitulé La fille et le lion. Cette conteuse professionnelle a le talent de raconter les histoires aux enfants\, qui très vite se retrouvent emportés dans un univers magique. Comme chaque mois\, elle vous donne rendez-vous en bibliothèque enfants à 14h30\, le mercredi 9 octobre 2019 pour découvrir ce conte. \nL’histoire : \nKabboura vit avec ses parents\, un jour où elle va puiser de l’eau à la rivière\, elle rencontre le lion\, qui lui propose gentiment de l’aider. Kabboura refuse son aide de façon méprisante et le raconte fièrement à qui veut\, ce qu’elle ne sait pas\, c’est que le lion a tout entendu… \n  \n\nHeure du conte pour les enfants : La fille et le lion – Conte marocain \nLéonore CANERI / TFTN \nMercredi 9 octobre 2019\, à 14h30 \nEntrée libre \nRenseignements au 40 544 544 / www.maisondelaculture.pf\nPage Facebook : Médiathèque de la Maison de la Culture\nBibliothèque enfant\n
URL:https://www.maisondelaculture.pf/evenement/lheure-du-conte-la-fille-et-le-lion-legende-du-maroc/
LOCATION:Bibliothèque enfants\, 646 Boulevard Pomare IV\, Papeete\, Polynésie Française
CATEGORIES:Animations jeunesse
ATTACH;FMTTYPE=image/jpeg:https://www.maisondelaculture.pf/cms/wp-content/uploads/2019/10/Heure-du-conte-La-fille-et-le-lion.jpg
ORGANIZER;CN="Maison%20de%20la%20Culture":MAILTO:communication@maisondelaculture.pf
END:VEVENT
END:VCALENDAR