BEGIN:VCALENDAR
VERSION:2.0
PRODID:-//Maison de la Culture de Tahiti - Te Fare Tauhiti Nui - ECPv4.9.10//NONSGML v1.0//EN
CALSCALE:GREGORIAN
METHOD:PUBLISH
X-WR-CALNAME:Maison de la Culture de Tahiti - Te Fare Tauhiti Nui
X-ORIGINAL-URL:https://www.maisondelaculture.pf
X-WR-CALDESC:Évènements pour Maison de la Culture de Tahiti - Te Fare Tauhiti Nui
BEGIN:VTIMEZONE
TZID:Pacific/Tahiti
BEGIN:STANDARD
TZOFFSETFROM:-1000
TZOFFSETTO:-1000
TZNAME:-10
DTSTART:20190101T000000
END:STANDARD
END:VTIMEZONE
BEGIN:VEVENT
DTSTART;TZID=Pacific/Tahiti:20191126T090000
DTEND;TZID=Pacific/Tahiti:20191126T100000
DTSTAMP:20191117T112234
CREATED:20190924T215310Z
LAST-MODIFIED:20191031T211548Z
UID:11187-1574758800-1574762400@www.maisondelaculture.pf
SUMMARY:Les tout-petits et les livres\, un rendez-vous dédié à l’éveil
DESCRIPTION:Voici une activité qui ne manquera pas de réunir son lot d’adepte. Dédiées aux très jeunes enfants\, ces rencontres ont pour objectif de faire se rencontrer les livres et les petits sur deux créneaux horaires : de 9h à 9h20 pour les enfants de 18 à 30 mois et de 9h25 à 10h pour les enfants de 3 à 5 ans. Elles sont proposées deux fois par mois à partir du mois de septembre\, avec chaque mois un thème différent. \nAu programme\, des comptines\, des lectures et des activités d’éveil autour du livre qui permettent aux jeunes enfants\, accompagnés d’un adulte\, de découvrir le plaisir de la lecture. Ce moment de partage unique construit des premiers liens avec l’adulte\, l’enfant et le livre dans une atmosphère calme et rassurante. \n\nNovembre : mardi 12 et mardi 26 novembre\n\n  \n\nInfos pratiques : \n  \nAnimations jeunesse : Les tout petit et les livres \nDeux fois par mois \n9h à 9h20 pour les enfants de 18 à 30 mois \n9h25 à 10h pour les enfants de 3 à 5 ans \nInscriptions à la Bibliothèque enfants\, en précisant le prénom et l’âge de l’enfant. \nRenseignements www.maisondelaculture.pf \nFB : Médiathèque de la Maison de la Culture \nPortail médiathèque : https://mediatheque-tahiti.bibenligne.fr \n
URL:https://www.maisondelaculture.pf/evenement/les-tout-petits-et-les-livres-un-rendez-vous-dedie-a-leveil-9/
LOCATION:Bibliothèque enfants\, 646 Boulevard Pomare IV\, Papeete\, Polynésie Française
CATEGORIES:Animations jeunesse
ATTACH;FMTTYPE=image/jpeg:https://www.maisondelaculture.pf/cms/wp-content/uploads/2019/08/IMG_5215.jpg
ORGANIZER;CN="Maison%20de%20la%20Culture":MAILTO:communication@maisondelaculture.pf
END:VEVENT
END:VCALENDAR