BEGIN:VCALENDAR
VERSION:2.0
PRODID:-//Maison de la Culture de Tahiti - Te Fare Tauhiti Nui - ECPv4.9.10//NONSGML v1.0//EN
CALSCALE:GREGORIAN
METHOD:PUBLISH
X-WR-CALNAME:Maison de la Culture de Tahiti - Te Fare Tauhiti Nui
X-ORIGINAL-URL:https://www.maisondelaculture.pf
X-WR-CALDESC:Évènements pour Maison de la Culture de Tahiti - Te Fare Tauhiti Nui
BEGIN:VTIMEZONE
TZID:Pacific/Tahiti
BEGIN:STANDARD
TZOFFSETFROM:-1000
TZOFFSETTO:-1000
TZNAME:-10
DTSTART:20170101T000000
END:STANDARD
END:VTIMEZONE
BEGIN:VEVENT
DTSTART;TZID=Pacific/Tahiti:20170908T083000
DTEND;TZID=Pacific/Tahiti:20170908T113000
DTSTAMP:20191126T124552
CREATED:20170822T203324Z
LAST-MODIFIED:20170901T214941Z
UID:6755-1504859400-1504870200@www.maisondelaculture.pf
SUMMARY:Les matinées pédagogiques de TFTN
DESCRIPTION:Depuis quelques années et comme une déclinaison de nos ateliers\, la Maison de la Culture propose des activités pour les vendredis pédagogiques. Ainsi\, le 8 septembre\, le 21 octobre et le 02 décembre\, des matinées ludiques et créatives pour tous sont organisées. Pas question de s’ennuyer ! \nAu programme du vendredi 8 septembre : \nEchecs avec Teiva Tehevini\nPour découvrir toutes les règles de ce jeu stratégique et passionnant : les pièces\, les pions\, les mats\, les échecs\, les pats et les parties nulles\, règlement concernant le comportement des joueurs\, les différentes phases d’une partie\, tournoi.\nDe 8h30 à 10h00 pour les enfants de 6 à 10 ans \nEveil corporel avec Isabelle Balland\nProfesseur diplômée bénéficiant d’une expérience reconnue\, Isabelle Balland partage sa joie du mouvement à travers le jeu\, aide les petits à prendre conscience du schéma corporel (motricité\, adresse)\, leur fait découvrir les notions de rythme et d’espace (directions\, trajectoires\, niveaux) sur des musiques appropriées\, sollicite leur imaginaire\, sans oublier la relation à l’autre.\nL’apprentissage ludique et la sollicitation des sens se font souvent à l’aide de différents accessoires : ballons\, souples\, cerceaux\, foulards\, frites en mousse\, etc. Filles et garçons vont ainsi grandir et devenir autonomes\, s’épanouir\, entrer en communication avec les autres et… apprendre avec plaisir !\nDe 8h30 à 10h00 pour les enfants de 3 à 5 ans \nAtelier créatif avec Majo Sotomayor\nToujours avec du matériel de recyclage\, l’atelier créatif permettra aux participants de réaliser un tableau fleuri rempli de couleurs en techniques mixtes : collages divers\, crayons de couleurs\, feutres.\nDe 10h15 à 11h45 pour les enfants de 6 à 10 ans \nJeux de société avec Soizick\nPour permettre de découvrir le jeu comme outil culturel et de développer sa curiosité intellectuelle\, Soizik accompagne le développement de la notion de plaisir en s’amusant\, en découvrant\, en créant ensemble\, en écoutant\, en jouant\, en partageant. L’atelier permet en outre d’apprendre à l’enfant à négocier dans le respect du groupe\, de se construire grâce aux jeux (imagination\, raisonnement\, stratégie\, méthode…) pour un apprentissage des règles en société.\nLa Malle à Jouer propose des jeux de société tels que SOS ouistiti\, croque carottes\, mille bornes\, Noé\, Tic tac boum\, Carcassonne\, le Lynx…\nSont aussi proposés des jouets tels que Playmobil\, Légo\, Légo Duplo\, Mécano\, garage avec ses voitures et son tapis ville\, poupée et dinettes….\nDe 10h15 à 11h45 pour les enfants de 3 à 10 ans \n  \n
URL:https://www.maisondelaculture.pf/evenement/les-matinees-pedagogiques-de-tftn/
LOCATION:Boulevard Pomare\, Papeete\, 98713\, Polynésie Française
CATEGORIES:Animations jeunesse,Newsletter
ATTACH;FMTTYPE=image/jpeg:https://www.maisondelaculture.pf/cms/wp-content/uploads/2017/08/Ateliers-matinées-pédagogiques-crédit-TFTN.jpg
ORGANIZER;CN="Maison%20de%20la%20Culture":MAILTO:communication@maisondelaculture.pf
END:VEVENT
END:VCALENDAR