BEGIN:VCALENDAR
VERSION:2.0
PRODID:-//Maison de la Culture de Tahiti - Te Fare Tauhiti Nui - ECPv4.9.10//NONSGML v1.0//EN
CALSCALE:GREGORIAN
METHOD:PUBLISH
X-WR-CALNAME:Maison de la Culture de Tahiti - Te Fare Tauhiti Nui
X-ORIGINAL-URL:https://www.maisondelaculture.pf
X-WR-CALDESC:Évènements pour Maison de la Culture de Tahiti - Te Fare Tauhiti Nui
BEGIN:VTIMEZONE
TZID:Pacific/Tahiti
BEGIN:STANDARD
TZOFFSETFROM:-1000
TZOFFSETTO:-1000
TZNAME:-10
DTSTART:20170101T000000
END:STANDARD
END:VTIMEZONE
BEGIN:VEVENT
DTSTART;TZID=Pacific/Tahiti:20171208T080000
DTEND;TZID=Pacific/Tahiti:20171208T170000
DTSTAMP:20191126T113246
CREATED:20170831T212214Z
LAST-MODIFIED:20171219T200637Z
UID:6873-1512720000-1512752400@www.maisondelaculture.pf
SUMMARY:Les matinées pédagogiques de TFTN
DESCRIPTION:Depuis quelques années et comme une déclinaison de nos ateliers\, la Maison de la Culture propose des activités pour les vendredis pédagogiques. Ainsi le 08 décembre\, des matinées ludiques et créatives pour tous sont organisées. Pas question de s’ennuyer ! \n\nEchecs avec Teiva Tehevini         \nDe 6 à 10 ans : 8h30-10h00 \n\nTeiva encadre vos enfants afin de les initier à ce jeu de stratégie. Techniques\, échiquiers\, pions\, mats\, pats\, parties nulles\, tournois\, de la stratégie et de la réflexion sont au programme ! \n\nAutour du mouvement et du son avec Sylvie Urban  \nDe 6 à 10 ans : 10h15-11h45\n\nAfin de permettre à l’enfant d’exprimer sa sensibilité par les sons\, les mouvements\, la relaxation et de petites mises en scène\, cet atelier est très tourné vers la musique. Les enfants auront accès à quantité d’instruments venus de tous les pays pour un voyage musical et intérieur à la fois. \n\nJeux de société avec Soizick \nDe 3 à 5 ans : 8h30-10h00 \nDe 6 à 10 ans : 10h15-11h45       \n\nCette activité éveillera petits et grands au plaisir du jeu. Aussi ludique qu’éducatif cet atelier est impératif pour le bon développement affectif\, cognitif\, moteur\, social de l’enfant. Il permet à l’enfant d’apprendre à se faire confiance et lui permet d’expérimenter de nouvelles situations\, de chercher des solutions\, tout ceci dans un cadre sécurisant. \n
URL:https://www.maisondelaculture.pf/evenement/les-matinees-pedagogiques-de-tftn-3/
LOCATION:Boulevard Pomare\, Papeete\, 98713\, Polynésie Française
CATEGORIES:Ateliers de vacances
ATTACH;FMTTYPE=image/jpeg:https://www.maisondelaculture.pf/cms/wp-content/uploads/2017/11/Atelier-jeux-de-société.jpg
ORGANIZER;CN="Maison%20de%20la%20Culture":MAILTO:communication@maisondelaculture.pf
END:VEVENT
END:VCALENDAR