BEGIN:VCALENDAR
VERSION:2.0
PRODID:-//Maison de la Culture de Tahiti - Te Fare Tauhiti Nui - ECPv4.9.10//NONSGML v1.0//EN
CALSCALE:GREGORIAN
METHOD:PUBLISH
X-WR-CALNAME:Maison de la Culture de Tahiti - Te Fare Tauhiti Nui
X-ORIGINAL-URL:https://www.maisondelaculture.pf
X-WR-CALDESC:Évènements pour Maison de la Culture de Tahiti - Te Fare Tauhiti Nui
BEGIN:VTIMEZONE
TZID:Pacific/Tahiti
BEGIN:STANDARD
TZOFFSETFROM:-1000
TZOFFSETTO:-1000
TZNAME:-10
DTSTART:20190101T000000
END:STANDARD
END:VTIMEZONE
BEGIN:VEVENT
DTSTART;TZID=Pacific/Tahiti:20190821T180000
DTEND;TZID=Pacific/Tahiti:20190821T180000
DTSTAMP:20191122T133035
CREATED:20190807T012729Z
LAST-MODIFIED:20190824T010732Z
UID:10932-1566410400-1566410400@www.maisondelaculture.pf
SUMMARY:Leadership diamant et entrepreneur social. La voix des femmes !
DESCRIPTION:Venez nombreuses participer à la conférence\, organisée par Stéphanie Mareva FAILLOUX\, portant sur les Clés du Leadership Diamant et l’Entrepreneuriat Social en compagnie de 13 femmes inspirantes le mercredi 21 août 2019\, à 18h00 au petit théâtre de la Maison de la Culture. Cette conférence ouverte uniquement aux femmes sera suivie d’un (networking) cocktail dinatoire. \n  \n1) QUOI ? \n– Inspirer les femmes à développer leurs qualités de leader ;\n– Les encourager à lancer des projets entrepreneuriaux ou associatifs à impact social\, sociétal ou environnemental;\n– Contribuer ainsi à être des acteurs du changement nécessaire aujourd’hui. \n  \n2) POURQUOI ? \n– Le monde est dans un état d’urgence : social\, environnemental\, économique ;\n– Les valeurs féminines (de partage\, préservation\, transmission\, créativité\, compassion) doivent prendre le dessus afin de changer le paradigme dominant\, notamment par le biais de l’entrepreneuriat ;\n– L’« empowerment » de la femme est l’outil de développement le plus efficace (Kofi Annan) \n  \n=> Le monde a besoin que les femmes se lèvent\, agissent et suivent leurs rêves. \n  \n3) COMMENT ? \nUn mélange d’outils et d’exemples concrets pour la construction d’une communauté de leaders éclairées et bienveillantes. \n  \n1ère partie:  \nPrésentation des valeurs du leadership éclairé (« Leadership diamant »)\, en particulier des 4 C(lés) : Courage\, Créativité\, Communication\, Corps pour révéler le diamant enfoui en chacune de nous\, celui qui libère notre voix pour montrer la voie – par Stéphanie Mareva Failloux \n  \n2ème partie: \nTémoignages de 13 femmes inspirantes d’horizons variés qui ont osé suivre leurs rêves et se sont lancées dans des projets et entreprises à mission et impact. \n  \nPoerani ALBERT & Justine RESTELLI (TE NATI)\nSara ALINE (Ecole Api\, Parents Autrement)\nAline BESSIERES (ICS Conseil\, Tahiti Women Forum)\nNathalie COLIN-FAGOTIN (FamiliPsy)\nLoanah WONG (Druidesse)\nAudrey LACHAUD (Food & CookLab)\nElodie LANSUN (Avis)\nMoea PEREYRE (Nana Sac Plastique)\nCapucine MOYRAND (PRISM)\nHeiura ITAE-TETAA (Speak Tahiti)\nJennifer TCHAKOUTE (C Reva)\nLaura THERON (Arioi) \n  \n3ème partie: \nNetworking cocktail – buffet. \nCréation de réseau\, d’une communauté de femmes motivées par une vision et des objectifs éclairés. Présentation de produits et services proposés par les intervenantes. \n  \nIntroduction de la conférence par Dominique MORVAN du magazine DIXIT\, dont la prochaine édition portera sur les femmes dans le monde du travail. \n  \nInformations pratiques :  \nConférence – ouverte aux femmes uniquement \nStéphanie Mareva FAILLOUX \nTarif : 1 700 Fcfp \nInscriptions sur Fenua Moove : https://www.fenuamoove.pf/leadership-diamant-social-business \nRenseignements : stephanie.failloux@gmail.com / 87 75 45 20 / Page FB : Maison de la Culture de Tahiti \nPlus d’info sur Stéphanie Mareva FAILLOUX : https://www.linkedin.com/in/stephanie-mareva-failloux-765199/ \nPetit Théâtre \n
URL:https://www.maisondelaculture.pf/evenement/leadership-diamant-et-entrepreneur-social-la-voix-des-femmes/
LOCATION:Petit Théâtre\, 646 Boulevard Pomare IV\, Papeete\, Polynésie Française
CATEGORIES:Projections, rencontres
ATTACH;FMTTYPE=image/jpeg:https://www.maisondelaculture.pf/cms/wp-content/uploads/2019/07/Leadership-diamant-et-entrepreneur-social.jpg
ORGANIZER;CN="Maison%20de%20la%20Culture":MAILTO:communication@maisondelaculture.pf
END:VEVENT
END:VCALENDAR