BEGIN:VCALENDAR
VERSION:2.0
PRODID:-//Maison de la Culture de Tahiti - Te Fare Tauhiti Nui - ECPv4.9.10//NONSGML v1.0//EN
CALSCALE:GREGORIAN
METHOD:PUBLISH
X-WR-CALNAME:Maison de la Culture de Tahiti - Te Fare Tauhiti Nui
X-ORIGINAL-URL:https://www.maisondelaculture.pf
X-WR-CALDESC:Évènements pour Maison de la Culture de Tahiti - Te Fare Tauhiti Nui
BEGIN:VTIMEZONE
TZID:Pacific/Tahiti
BEGIN:STANDARD
TZOFFSETFROM:-1000
TZOFFSETTO:-1000
TZNAME:-10
DTSTART:20190101T000000
END:STANDARD
END:VTIMEZONE
BEGIN:VEVENT
DTSTART;VALUE=DATE:20190830
DTEND;VALUE=DATE:20190905
DTSTAMP:20191122T133520
CREATED:20190807T011412Z
LAST-MODIFIED:20190824T010650Z
UID:10923-1567123200-1567641599@www.maisondelaculture.pf
SUMMARY:Le planétarium est de retour à la Maison de la Culture
DESCRIPTION:L’Association ProScience\, en partenariat avec Te Fare Tauhiti Nui – Maison de la Culture\, est de retour en Salle Muriāvai du vendredi 30 au mercredi 4 septembre 2019. Si vous n’avez jamais eu l’occasion de tenter cette expérience enrichissante\, venez à la découverte de ces étoiles qui illuminent nos nuits. Embarquez à bord du nouveau planétarium « Rua ‘ana 2 » et laissez-vous guider par les constellations. \nAu programme\, un voyage interstellaire au cœur de la galaxie. Vous verrez de quoi est composé notre soleil\, quelles sont les constellations des signes du zodiaque\, les étoiles qui guidaient les navigateurs polynésiens et celles qui annoncent les saisons ainsi que toutes les planètes hébergées par la voie lactée… le ciel n’aura plus de secret pour vous ! \n\nhttp://www.proscience.pf/calendrier-2019-du-planetarium/\nAttention le nombre de place est limité à 25 personnes par séance. \n  \nPour des raisons de sécurité et de confort\, quelques petites recommandations :\n• Les personnes qui entrent sous le dôme doivent se déchausser et laisser les sacs et objets piquants (ou coupants) à l’extérieur.\n• Nous comptons sur les accompagnants pour bien encadrer les enfants et faire respecter la discipline.\n• Les sons se transmettent très bien dans le planétarium. Le moindre chuchotement peut rapidement devenir gênant.\n• Il est prudent de demander aux enfants d’aller faire pipi avant la séance.\n• Les coussins mis à disposition pour s’assoir par terre ne doivent pas être utilisés comme oreillers sur la toile.\n• Il est bien strictement interdit de manger (même un chewing-gum) ou de boire dans le planétarium. \n  \nInfos pratiques :  \nPlanétarium : A la découverte du ciel polynésien\nPro Science / TFTN \nDu vendredi 30 au mercredi 4 septembre 2019\, de 9h00 à 18h00. \nTarifs : 500 Fcfp pour les adultes / 300 Fcfp pour les enfants de 4 à 10 ans \nBillets en vente sur place uniquement \nRenseignements au 89 72 02 60 / 40 544 546 et sur le site www.proscience.pf \nSalle Muriāvai \n
URL:https://www.maisondelaculture.pf/evenement/le-planetarium-est-de-retour-a-la-maison-de-la-culture-2/
LOCATION:Salle Muriāvai\, 646 Boulevard Pomare IV\, Papeete\, Polynésie Française
CATEGORIES:Projections, rencontres
ATTACH;FMTTYPE=image/jpeg:https://www.maisondelaculture.pf/cms/wp-content/uploads/2019/08/SLIDER1.jpg
ORGANIZER;CN="Maison%20de%20la%20Culture":MAILTO:communication@maisondelaculture.pf
END:VEVENT
END:VCALENDAR