BEGIN:VCALENDAR
VERSION:2.0
PRODID:-//Maison de la Culture de Tahiti - Te Fare Tauhiti Nui - ECPv4.9.10//NONSGML v1.0//EN
CALSCALE:GREGORIAN
METHOD:PUBLISH
X-WR-CALNAME:Maison de la Culture de Tahiti - Te Fare Tauhiti Nui
X-ORIGINAL-URL:https://www.maisondelaculture.pf
X-WR-CALDESC:Évènements pour Maison de la Culture de Tahiti - Te Fare Tauhiti Nui
BEGIN:VTIMEZONE
TZID:Pacific/Tahiti
BEGIN:STANDARD
TZOFFSETFROM:-1000
TZOFFSETTO:-1000
TZNAME:-10
DTSTART:20190101T000000
END:STANDARD
END:VTIMEZONE
BEGIN:VEVENT
DTSTART;TZID=Pacific/Tahiti:20190829T100000
DTEND;TZID=Pacific/Tahiti:20190829T110000
DTSTAMP:20191122T134906
CREATED:20190731T002427Z
LAST-MODIFIED:20190824T010703Z
UID:10900-1567072800-1567076400@www.maisondelaculture.pf
SUMMARY:Le club de lecture de la Maison de la Culture
DESCRIPTION:Vous aimez lire\, les mots\, la force d’un écrit et partager autour de vous ? Alors ne manquez pas le 3ème rendez-vous du club des lecteurs de la médiathèque de la Maison de la Culture. \nVenez échanger avec d’autres lecteurs un coup de cœur ou vos impressions sur un roman\, un documentaire ou une BD\, avec d’autres lecteurs\, dans une ambiance conviviale. Autour d’un thé ou d’un café\, laissez-vous tenter par la découverte de livres et d’auteurs présentés ce jour-là. \nEt que diriez-vous de lire avant tout le monde les nouveautés qui entrent à la bibliothèque et de nous donner votre avis ? \nLa séance sera animée par Heirani Soter chargé d’entretenir la discussion et de la faire rebondir s’il y a besoin. La liste des livres discutés lui sera transmise en amont. \n  \nInformations pratiques : \nClub des lecteurs de la bibliothèque adultes \nTFTN\nJeudi 29 août 2019\, de 10h00 à 11h00\nRenseignements et inscriptions au 40 544 536 / activités@maisondelaculture.pf / \nPage FB : Médiathèque de la Maison de la Culture. \nBibliothèque adulte\n
URL:https://www.maisondelaculture.pf/evenement/le-club-de-lecture-de-la-maison-de-la-culture/
LOCATION:bibliothèque adultes\, Boulevard Pomare\, Papeete\, 98713\, Polynésie Française
CATEGORIES:Projections, rencontres
ATTACH;FMTTYPE=image/jpeg:https://www.maisondelaculture.pf/cms/wp-content/uploads/2019/07/Club-de-lecture-Montage.jpg
ORGANIZER;CN="Maison%20de%20la%20Culture":MAILTO:communication@maisondelaculture.pf
END:VEVENT
END:VCALENDAR