BEGIN:VCALENDAR
VERSION:2.0
PRODID:-//Maison de la Culture de Tahiti - Te Fare Tauhiti Nui - ECPv4.9.10//NONSGML v1.0//EN
CALSCALE:GREGORIAN
METHOD:PUBLISH
X-WR-CALNAME:Maison de la Culture de Tahiti - Te Fare Tauhiti Nui
X-ORIGINAL-URL:https://www.maisondelaculture.pf
X-WR-CALDESC:Évènements pour Maison de la Culture de Tahiti - Te Fare Tauhiti Nui
BEGIN:VTIMEZONE
TZID:Pacific/Tahiti
BEGIN:STANDARD
TZOFFSETFROM:-1000
TZOFFSETTO:-1000
TZNAME:-10
DTSTART:20190101T000000
END:STANDARD
END:VTIMEZONE
BEGIN:VEVENT
DTSTART;TZID=Pacific/Tahiti:20191002T143000
DTEND;TZID=Pacific/Tahiti:20191002T153000
DTSTAMP:20191122T122500
CREATED:20190930T202747Z
LAST-MODIFIED:20191002T004352Z
UID:11223-1570026600-1570030200@www.maisondelaculture.pf
SUMMARY:Lancement du rallye lecture : les sorcières et autres monstres ! 
DESCRIPTION:Vos enfants affectionnent la lecture et dévorent les pages de leurs livres ? Ils aiment les défis ? Les rallyes lecture réunissent tous ces ingrédients ! Sur des thèmes définis au préalable\, une trentaine d’ouvrages sont sélectionnés en Bibliothèque enfants. \nL’association Polynélivre\, en partenariat avec la Maison de la Culture\, propose aux enfants de découvrir une autre façon de lire au travers d’animations\, de jeux ou encore d’instants de lecture. Les enfants inscrits auront environ 5 semaines pour lire le plus de livres possibles et pourront remplir des questionnaires disponibles en Bibliothèque enfants.  A la finale\, les enfants qui auront donné le plus de bonnes réponses et lu le plus d’ouvrages se verront décerner un diplôme. \nLe lancement du rallye lecture débutera mercredi 2 octobre et s’achèvera mercredi 23 octobre avec l’élection des livres « coups de cœur ». \nCe mois-ci\, nous aborderons le thème des sorcières et autres monstres. Préparez halloween en lecture !  \n  \n\n  \nInfos pratiques  \nRallye lecture sur le thème des sorcières et autres monstres \nPolynélivre / TFTN \nPour les enfants de 5 à 12 ans (et plus…)\, de 14h30 à 15h30 \nMercredi 2 octobre 2019 : lancement du rallye \nMercredi 23 octobre 2019 : fin du rallye \nEntrée libre \nRenseignements au 40 544 536 \nFB Médiathèque de la Maison de la Culture \nBibliothèque enfant \n
URL:https://www.maisondelaculture.pf/evenement/lancement-du-rallye-lecture-les-fetes-la-gourmandise-et-noel/
LOCATION:Bibliothèque enfants\, 646 Boulevard Pomare IV\, Papeete\, Polynésie Française
CATEGORIES:Animations jeunesse
ATTACH;FMTTYPE=image/jpeg:https://www.maisondelaculture.pf/cms/wp-content/uploads/2019/09/beth-teutschmann-ed5KySP1tfQ-unsplash.jpg
ORGANIZER;CN="Maison%20de%20la%20Culture":MAILTO:communication@maisondelaculture.pf
END:VEVENT
END:VCALENDAR