BEGIN:VCALENDAR
VERSION:2.0
PRODID:-//Maison de la Culture de Tahiti - Te Fare Tauhiti Nui - ECPv4.9.10//NONSGML v1.0//EN
CALSCALE:GREGORIAN
METHOD:PUBLISH
X-WR-CALNAME:Maison de la Culture de Tahiti - Te Fare Tauhiti Nui
X-ORIGINAL-URL:https://www.maisondelaculture.pf
X-WR-CALDESC:Évènements pour Maison de la Culture de Tahiti - Te Fare Tauhiti Nui
BEGIN:VTIMEZONE
TZID:Pacific/Tahiti
BEGIN:STANDARD
TZOFFSETFROM:-1000
TZOFFSETTO:-1000
TZNAME:-10
DTSTART:20170101T000000
END:STANDARD
END:VTIMEZONE
BEGIN:VEVENT
DTSTART;TZID=Pacific/Tahiti:20170807T080000
DTEND;TZID=Pacific/Tahiti:20170807T170000
DTSTAMP:20191126T140619
CREATED:20170705T003953Z
LAST-MODIFIED:20170705T004439Z
UID:6535-1502092800-1502125200@www.maisondelaculture.pf
SUMMARY:Inscriptions aux cours et ateliers à l'année
DESCRIPTION:Les cours et ateliers rassemblent chaque année plus de 1000 inscrits\, des enfants aux adultes\, des familles pour la plupart qui trouvent leur bonheur dans les différentes activités que la Maison de la Culture propose. Cette année encore\, de nombreuses nouveautés attendent le public aussi bien pour les enfants que pour les adultes. Une programmation établie pour une rentrée riche en connaissances\, en activités ludiques et créatives\, et avant tout pour le plaisir des grands et des petits.\nVoici le détail de ces cours et ateliers destinés aux enfants\, ados\, adultes et seniors : \nCours pour adultes :\n• Atelier créatif\n• Tressage – Api !\n• Cosmogonie polynésienne : Histoire et Culture polynésiennes\n• Japonais\n• Anglais\n• Reo Tahiti : niveau intermédiaire\, de conversation et débutant\n• Cours de stretch and tone\n• Cours de Taichi\n• Théâtre\n• Yoga \nCours pour enfants :\n• Anglais : Niveau CM2\n• Echecs 7 – 13 ans\n• Eveil corporel 3 – 5 ans\n• Atelier créatif 4 – 6 ans / 7-13 ans\n• Aide aux devoirs / soutien scolaire niveau primaire\n• Théâtre 6-10 ans / 11-15 ans\n• Japonais à partir de 8 ans – Api !\n• Yoga 8 à 13 ans – Api !\n• United Kids 7 à 11 ans – Api ! \nTarifs : 1420 Fcfp enfant ou étudiants / 1700 Fcfp adultes / 1020 Fcfp matahiapo\nTarifs dégressifs pour les couples et les familles\nDébut des cours le lundi 28 août 2017 \nRenseignements au 40 544 536\nInscriptions sur place dès le lundi 7 août 2017 \n
URL:https://www.maisondelaculture.pf/evenement/inscrivez-vous-aux-cours-et-ateliers-a-lannee/
LOCATION:Boulevard Pomare\, Papeete\, 98713\, Polynésie Française
CATEGORIES:Cours et Ateliers,Newsletter
ATTACH;FMTTYPE=image/jpeg:https://www.maisondelaculture.pf/cms/wp-content/uploads/2017/07/Yoga.jpg
ORGANIZER;CN="Maison%20de%20la%20Culture":MAILTO:communication@maisondelaculture.pf
END:VEVENT
END:VCALENDAR