BEGIN:VCALENDAR
VERSION:2.0
PRODID:-//Maison de la Culture de Tahiti - Te Fare Tauhiti Nui - ECPv4.9.10//NONSGML v1.0//EN
CALSCALE:GREGORIAN
METHOD:PUBLISH
X-WR-CALNAME:Maison de la Culture de Tahiti - Te Fare Tauhiti Nui
X-ORIGINAL-URL:https://www.maisondelaculture.pf
X-WR-CALDESC:Évènements pour Maison de la Culture de Tahiti - Te Fare Tauhiti Nui
BEGIN:VTIMEZONE
TZID:Pacific/Tahiti
BEGIN:STANDARD
TZOFFSETFROM:-1000
TZOFFSETTO:-1000
TZNAME:-10
DTSTART:20180101T000000
END:STANDARD
END:VTIMEZONE
BEGIN:VEVENT
DTSTART;TZID=Pacific/Tahiti:20180418T183000
DTEND;TZID=Pacific/Tahiti:20180418T183000
DTSTAMP:20191123T052854
CREATED:20180404T011636Z
LAST-MODIFIED:20180412T024256Z
UID:8154-1524076200-1524076200@www.maisondelaculture.pf
SUMMARY:Histoires d’Océanie : « Hawaii » (1966)
DESCRIPTION:Les projections cinématographiques sont de retour au Petit Théâtre avec un film de 1966 intitulé Hawaii. Le rendez-vous est donné à tous ceux qui sont curieux de découvrir un long métrage d’époque le mercredi 18 avril à 18h30… \nLa Maison de la Culture et L’Association pour la Diffusion de la Culture en Polynésie (ADCP) proposent une troisième édition d’Histoires d’Océanie.\nHistoire d’Océanie propose deux à trois fois par an la projection d’un film appartenant à l’histoire cinématographique du Pacifique\, des films documentaires\, des films de fictions qui ont marqué l’histoire du 7ème art. \nPour cette troisième édition\, nous vous proposons le film « Hawaii » de 1966. \nL’histoire : \n« En 1966\, la Mirish Corporation produit le film Hawaii\, une adaptation du roman de James Michener\, réalisé par George Roy Hill. Le film\, comme son titre le sous-entend est principalement tourné à Hawaii avec une distribution internationale. Parmi les acteurs\, la Tahitienne Jocelyne Lagarde\, qui interprète le rôle de la reine Malama Kanokoa. Jocelyne Lagarde est une femme impressionnante\, elle mesure 1\,83m\, pèse plus de 130 kilos\, et comme elle ne parle pas l’anglais\, elle apprend son texte phonétiquement. Ce sera son unique rôle au cinéma\, mais elle obtient une nomination aux Oscar en tant que meilleure actrice pour un second rôle et remporte le Golden Globe dans cette même catégorie en 1967. » \n
URL:https://www.maisondelaculture.pf/evenement/histoires-doceanie-hawaii-1967/
LOCATION:Petit Théâtre\, 646 Boulevard Pomare IV\, Papeete\, Polynésie Française
CATEGORIES:Newsletter,Projections, rencontres
ATTACH;FMTTYPE=image/jpeg:https://www.maisondelaculture.pf/cms/wp-content/uploads/2018/04/Histoires-doceanie-Hawaii-V2.jpg
ORGANIZER;CN="Maison%20de%20la%20Culture":MAILTO:communication@maisondelaculture.pf
END:VEVENT
END:VCALENDAR