BEGIN:VCALENDAR
VERSION:2.0
PRODID:-//Maison de la Culture de Tahiti - Te Fare Tauhiti Nui - ECPv4.9.10//NONSGML v1.0//EN
CALSCALE:GREGORIAN
METHOD:PUBLISH
X-WR-CALNAME:Maison de la Culture de Tahiti - Te Fare Tauhiti Nui
X-ORIGINAL-URL:https://www.maisondelaculture.pf
X-WR-CALDESC:Évènements pour Maison de la Culture de Tahiti - Te Fare Tauhiti Nui
BEGIN:VTIMEZONE
TZID:Pacific/Tahiti
BEGIN:STANDARD
TZOFFSETFROM:-1000
TZOFFSETTO:-1000
TZNAME:-10
DTSTART:20170101T000000
END:STANDARD
END:VTIMEZONE
BEGIN:VEVENT
DTSTART;TZID=Pacific/Tahiti:20170906T143000
DTEND;TZID=Pacific/Tahiti:20170906T143000
DTSTAMP:20191126T125446
CREATED:20170822T202252Z
LAST-MODIFIED:20170822T212238Z
UID:6752-1504708200-1504708200@www.maisondelaculture.pf
SUMMARY:Heure du conte : Un tatouage extraordinaire
DESCRIPTION:Léonore Canéri a le talent de raconter les histoires aux enfants\, qui très vite se retrouvent emportés dans son univers magique ou étrange. La conteuse professionnelle vous donne rendez-vous en Bibliothèque enfants le mercredi 6 septembre à 14h30 pour découvrir une légende marquisienne… \nL’histoire. \nTe-ahi’a-pua’iki est un des plus beaux jeunes hommes de Atuona\, la grande vallée de Hiva Oa. Marié à la belle Momea\, chaque jour il part à la pêche. Mais pendant ses absences\, deux hommes viennent voir Momea pour essayer de la séduire en médisant sur son mari. Un soir\, Te-ahi’a-pua’iki\, en rentrant de sa pêche\, découvre que sa femme est partie. Désespéré\, il la cherche partout et finit par errer sans but jusqu’au jour où il rencontre deux vieillards\, deux maîtres tatoueurs… \nA découvrir avec Léonore\, qui sait sans nul doute faire aimer les histoires du monde entier aux petits et aux grands ! \n
URL:https://www.maisondelaculture.pf/evenement/heure-du-conte-un-tatouage-extraordinaire/
LOCATION:Bibliothèque enfants\, 646 Boulevard Pomare IV\, Papeete\, Polynésie Française
CATEGORIES:Animations jeunesse,Newsletter
ATTACH;FMTTYPE=image/jpeg:https://www.maisondelaculture.pf/cms/wp-content/uploads/2017/08/Jeunesse-conte-marquisien.jpg
ORGANIZER;CN="Maison%20de%20la%20Culture":MAILTO:communication@maisondelaculture.pf
END:VEVENT
END:VCALENDAR