BEGIN:VCALENDAR
VERSION:2.0
PRODID:-//Maison de la Culture de Tahiti - Te Fare Tauhiti Nui - ECPv4.9.10//NONSGML v1.0//EN
CALSCALE:GREGORIAN
METHOD:PUBLISH
X-WR-CALNAME:Maison de la Culture de Tahiti - Te Fare Tauhiti Nui
X-ORIGINAL-URL:https://www.maisondelaculture.pf
X-WR-CALDESC:Évènements pour Maison de la Culture de Tahiti - Te Fare Tauhiti Nui
BEGIN:VTIMEZONE
TZID:Pacific/Tahiti
BEGIN:STANDARD
TZOFFSETFROM:-1000
TZOFFSETTO:-1000
TZNAME:-10
DTSTART:20170101T000000
END:STANDARD
END:VTIMEZONE
BEGIN:VEVENT
DTSTART;TZID=Pacific/Tahiti:20171122T143000
DTEND;TZID=Pacific/Tahiti:20171122T143000
DTSTAMP:20191126T112647
CREATED:20170831T213142Z
LAST-MODIFIED:20171110T184253Z
UID:6891-1511361000-1511361000@www.maisondelaculture.pf
SUMMARY:Heure du conte : Le nombril à plumes
DESCRIPTION:Léonore Canéri a le talent de raconter les histoires aux enfants\, qui très vite se retrouvent emportés dans son univers magique ou étrange. La conteuse professionnelle vous donne rendez-vous en Bibliothèque enfants le mercredi 22 novembre à 14h30 pour découvrir un conte japonais… \nL’histoire. \nUn homme était pauvre\, si pauvre qu’il ne possédait comme richesse que des trous : des trous dans ses poches\, des trous dans ses savates\, des trous dans son toit. Un jour il entend un oiseau jaune et rouge chanter et l’empereur du Japon\, un tyran au cœur de pierre\, veut lui couper la tête… \nA découvrir avec Léonore\, qui sait sans nul doute faire aimer les histoires du monde entier aux petits et aux grands ! \n
URL:https://www.maisondelaculture.pf/evenement/heure-du-conte-le-nombril-a-plumes/
LOCATION:Bibliothèque enfants\, 646 Boulevard Pomare IV\, Papeete\, Polynésie Française
CATEGORIES:Animations jeunesse,Newsletter
ATTACH;FMTTYPE=image/jpeg:https://www.maisondelaculture.pf/cms/wp-content/uploads/2017/08/plumes.jpg
ORGANIZER;CN="Maison%20de%20la%20Culture":MAILTO:communication@maisondelaculture.pf
END:VEVENT
END:VCALENDAR