BEGIN:VCALENDAR
VERSION:2.0
PRODID:-//Maison de la Culture de Tahiti - Te Fare Tauhiti Nui - ECPv4.9.10//NONSGML v1.0//EN
CALSCALE:GREGORIAN
METHOD:PUBLISH
X-WR-CALNAME:Maison de la Culture de Tahiti - Te Fare Tauhiti Nui
X-ORIGINAL-URL:https://www.maisondelaculture.pf
X-WR-CALDESC:Évènements pour Maison de la Culture de Tahiti - Te Fare Tauhiti Nui
BEGIN:VTIMEZONE
TZID:Pacific/Tahiti
BEGIN:STANDARD
TZOFFSETFROM:-1000
TZOFFSETTO:-1000
TZNAME:-10
DTSTART:20180101T000000
END:STANDARD
END:VTIMEZONE
BEGIN:VEVENT
DTSTART;TZID=Pacific/Tahiti:20180214T143000
DTEND;TZID=Pacific/Tahiti:20180214T143000
DTSTAMP:20191123T070448
CREATED:20180110T210305Z
LAST-MODIFIED:20180201T173946Z
UID:7594-1518618600-1518618600@www.maisondelaculture.pf
SUMMARY:Heure du conte: La perle de lune… Conte chinois
DESCRIPTION:Pour le premier conte de l’année Léonore Canéri a choisi un conte chinois intitulé La perle de lune. Cette conteuse professionnelle a le talent de raconter les histoires aux enfants\, qui très vite se retrouvent emportés dans son univers magique ou étrange. Comme chaque année et chaque mois elle vous donne rendez-vous en Bibliothèque enfants à la même heure le mercredi 14 décembre pour découvrir ce conte. \nL’histoire : \nEn hommage au nouvel an chinois et à la fête des amoureux\, voici l’histoire de la fille du roi des dragons\, roi de la mer orientale.\nLa princesse refuse de se marier malgré le nombre de soupirants de haute lignée qu’elle fréquente\, son père excédé finit par lui demander la cause\, la princesse répond qu’elle veut juste un homme honnête et courageux. Le roi des dragons accepte les conditions de sa fille et envoie ses conseillers à travers le monde des humains trouver la perle rare… \n
URL:https://www.maisondelaculture.pf/evenement/heure-du-conte-la-perle-de-lune-conte-chinois/
LOCATION:Bibliothèque enfants\, 646 Boulevard Pomare IV\, Papeete\, Polynésie Française
CATEGORIES:Animations jeunesse,Newsletter
ATTACH;FMTTYPE=image/jpeg:https://www.maisondelaculture.pf/cms/wp-content/uploads/2018/01/Heure-du-conte-La-perle-de-lune.jpg
ORGANIZER;CN="Maison%20de%20la%20Culture":MAILTO:communication@maisondelaculture.pf
END:VEVENT
END:VCALENDAR