BEGIN:VCALENDAR
VERSION:2.0
PRODID:-//Maison de la Culture de Tahiti - Te Fare Tauhiti Nui - ECPv4.9.10//NONSGML v1.0//EN
CALSCALE:GREGORIAN
METHOD:PUBLISH
X-WR-CALNAME:Maison de la Culture de Tahiti - Te Fare Tauhiti Nui
X-ORIGINAL-URL:https://www.maisondelaculture.pf
X-WR-CALDESC:Évènements pour Maison de la Culture de Tahiti - Te Fare Tauhiti Nui
BEGIN:VTIMEZONE
TZID:Pacific/Tahiti
BEGIN:STANDARD
TZOFFSETFROM:-1000
TZOFFSETTO:-1000
TZNAME:-10
DTSTART:20180101T000000
END:STANDARD
END:VTIMEZONE
BEGIN:VEVENT
DTSTART;TZID=Pacific/Tahiti:20180418T143000
DTEND;TZID=Pacific/Tahiti:20180418T143000
DTSTAMP:20191123T053059
CREATED:20180404T011404Z
LAST-MODIFIED:20180404T011404Z
UID:8151-1524061800-1524061800@www.maisondelaculture.pf
SUMMARY:Heure du Conte : Kangue Ize (conte africain)
DESCRIPTION:Léonore Canéri a choisi ce mois-ci un conte africain intitulé\, Kangue Ize un petit garçon au destin pas comme les autres. Cette conteuse professionnelle a le talent de raconter les histoires aux enfants\, qui très vite se retrouvent emportés dans son univers magique ou étrange. Comme chaque mois elle vous donne rendez-vous en Bibliothèque enfants à la même heure le mercredi 18 avril pour découvrir ce conte. \nL’histoire : \nUn couple de paysans amoureux se désespère de ne pas avoir d’enfants\, ils décident d’implorer Irkoy\, le grand Dieu. Kangué Izé nait par le genou de sa mère et dit qu’il sera roi… \n
URL:https://www.maisondelaculture.pf/evenement/heure-du-conte-kangue-ize/
LOCATION:Bibliothèque enfants\, 646 Boulevard Pomare IV\, Papeete\, Polynésie Française
CATEGORIES:Animations jeunesse,Newsletter
ATTACH;FMTTYPE=image/jpeg:https://www.maisondelaculture.pf/cms/wp-content/uploads/2018/04/Heure-du-conte-Conte-africain.jpg
ORGANIZER;CN="Maison%20de%20la%20Culture":MAILTO:communication@maisondelaculture.pf
END:VEVENT
END:VCALENDAR