BEGIN:VCALENDAR
VERSION:2.0
PRODID:-//Maison de la Culture de Tahiti - Te Fare Tauhiti Nui - ECPv4.9.10//NONSGML v1.0//EN
CALSCALE:GREGORIAN
METHOD:PUBLISH
X-WR-CALNAME:Maison de la Culture de Tahiti - Te Fare Tauhiti Nui
X-ORIGINAL-URL:https://www.maisondelaculture.pf
X-WR-CALDESC:Évènements pour Maison de la Culture de Tahiti - Te Fare Tauhiti Nui
BEGIN:VTIMEZONE
TZID:Pacific/Tahiti
BEGIN:STANDARD
TZOFFSETFROM:-1000
TZOFFSETTO:-1000
TZNAME:-10
DTSTART:20190101T000000
END:STANDARD
END:VTIMEZONE
BEGIN:VEVENT
DTSTART;TZID=Pacific/Tahiti:20191106T143000
DTEND;TZID=Pacific/Tahiti:20191106T153000
DTSTAMP:20191117T105256
CREATED:20191026T000610Z
LAST-MODIFIED:20191026T000610Z
UID:11404-1573050600-1573054200@www.maisondelaculture.pf
SUMMARY:Heure du conte : Halloween à l’honneur avec Une sorcière pas comme les autres
DESCRIPTION:Léonore Canéri a choisi ce mois-ci un conte d’halloween intitulé Une sorcière pas comme les autres. Cette conteuse professionnelle a le talent de raconter les histoires aux enfants\, qui très vite se retrouvent emportés dans un univers magique. Comme chaque mois\, elle vous donne rendez-vous en bibliothèque enfants à 14h30\, le mercredi 06 novembre 2019 pour découvrir ce conte. \nL’histoire :  \nBergamote est une sorcière qui terrorise la population depuis des années. Pourtant\, elle est trop gentille\, elle est juste horriblement laide et n’utilise quasiment jamais sa magie ! \nUn jour\, un corbeau lui apporte un message : elle doit se présenter au sabbat des sorcières où chacune doit exécuter un tour de magie. C’est la panique\, elle n’a que cinq jours pour se préparer… \n\nHeure du conte pour les enfants : une sorcière pas comme les autres – conte d’Halloween \nLéonore CANERI / TFTN \nMercredi 06 novembre 2019\, à 14h30 \nEntrée libre \nRenseignements au 40 544 544 / www.maisondelaculture.pf\nPage Facebook : Médiathèque de la Maison de la Culture\nBibliothèque enfant\n  \n
URL:https://www.maisondelaculture.pf/evenement/heure-du-conte-halloween-a-lhonneur-avec-une-sorciere-pas-comme-les-autres/
LOCATION:Bibliothèque enfants\, 646 Boulevard Pomare IV\, Papeete\, Polynésie Française
CATEGORIES:Animations jeunesse,Newsletter
ATTACH;FMTTYPE=image/jpeg:https://www.maisondelaculture.pf/cms/wp-content/uploads/2019/10/IMG_6223.jpg
ORGANIZER;CN="Maison%20de%20la%20Culture":MAILTO:communication@maisondelaculture.pf
END:VEVENT
END:VCALENDAR