BEGIN:VCALENDAR
VERSION:2.0
PRODID:-//Maison de la Culture de Tahiti - Te Fare Tauhiti Nui - ECPv4.9.10//NONSGML v1.0//EN
CALSCALE:GREGORIAN
METHOD:PUBLISH
X-WR-CALNAME:Maison de la Culture de Tahiti - Te Fare Tauhiti Nui
X-ORIGINAL-URL:https://www.maisondelaculture.pf
X-WR-CALDESC:Évènements pour Maison de la Culture de Tahiti - Te Fare Tauhiti Nui
BEGIN:VTIMEZONE
TZID:Pacific/Tahiti
BEGIN:STANDARD
TZOFFSETFROM:-1000
TZOFFSETTO:-1000
TZNAME:-10
DTSTART:20180101T000000
END:STANDARD
END:VTIMEZONE
BEGIN:VEVENT
DTSTART;TZID=Pacific/Tahiti:20180314T143000
DTEND;TZID=Pacific/Tahiti:20180314T143000
DTSTAMP:20191123T060801
CREATED:20180220T022326Z
LAST-MODIFIED:20180227T001222Z
UID:7842-1521037800-1521037800@www.maisondelaculture.pf
SUMMARY:Heure du conte : Conte norvégien
DESCRIPTION:Conte norvégien : Le troll qui ne portait pas son cœur sur lui \nUn roi a douze fils\, sentant sa fin proche\, il demande à ses onze fils aînés de parcourir le monde pour devenir des hommes et de trouver des princesses à épouser et d’en ramener une à leur frère Cendrillon\, le petit dernier qu’il garde pour s’occuper de lui pendant leur absence.\nLes onze frères partent et ne reviennent jamais\, le roi les pleure\, il a peur de ne plus jamais les revoir de son vivant. Cendrillon arrive à le convaincre de partir à leur recherche… \n
URL:https://www.maisondelaculture.pf/evenement/heure-du-conte-conte-norvegien/
LOCATION:Bibliothèque enfants\, 646 Boulevard Pomare IV\, Papeete\, Polynésie Française
CATEGORIES:Newsletter,Spectacles, Concerts, Théatre
ATTACH;FMTTYPE=image/jpeg:https://www.maisondelaculture.pf/cms/wp-content/uploads/2018/02/Heure-du-conte-Conte-norvégien.jpg
ORGANIZER;CN="Maison%20de%20la%20Culture":MAILTO:communication@maisondelaculture.pf
END:VEVENT
END:VCALENDAR