BEGIN:VCALENDAR
VERSION:2.0
PRODID:-//Maison de la Culture de Tahiti - Te Fare Tauhiti Nui - ECPv4.9.10//NONSGML v1.0//EN
CALSCALE:GREGORIAN
METHOD:PUBLISH
X-WR-CALNAME:Maison de la Culture de Tahiti - Te Fare Tauhiti Nui
X-ORIGINAL-URL:https://www.maisondelaculture.pf
X-WR-CALDESC:Évènements pour Maison de la Culture de Tahiti - Te Fare Tauhiti Nui
BEGIN:VTIMEZONE
TZID:Pacific/Tahiti
BEGIN:STANDARD
TZOFFSETFROM:-1000
TZOFFSETTO:-1000
TZNAME:-10
DTSTART:20170101T000000
END:STANDARD
END:VTIMEZONE
BEGIN:VEVENT
DTSTART;TZID=Pacific/Tahiti:20170719T180000
DTEND;TZID=Pacific/Tahiti:20170719T180000
DTSTAMP:20191126T142619
CREATED:20170608T235704Z
LAST-MODIFIED:20170706T215940Z
UID:6477-1500487200-1500487200@www.maisondelaculture.pf
SUMMARY:Heiva i Tahiti : Remise des prix
DESCRIPTION:Cette année la remise des prix mettra à l’honneur une des figures emblématiques du ‘ori tahiti\, Coco Hotahota\, chef du groupe Temaeva. L’occasion également de célébrer les 55 ans d’existence du groupe\, mené par un homme exigeant précurseur pour son époque\, passionné par son Pays et pétri d’émotion. Cette soirée riche en émotions permettra de retracer l’histoire du groupe et de son fondateur\, et réserve quelques belles surprises. Sans oublier que c’est au cours de cette soirée que seront dévoilés les grands gagnants de ce Heiva i Tahiti 2017 ! \nCes places sont gratuites\, et permettent d’être au cœur de l’émotion\, avec les groupes présents en tribune. \nRemise des prix – mercredi 19 juillet à 19h30 \nAttention début de la soirée à 19h30 en raison des directes télés \nPortée en partenariat avec TNTV et Polynésie 1ère\, la soirée sera accessible en direct sur les deux chaînes et sera diffusée en streaming sur les sites www.heiva.org\,  www.polynesie.la1ere.fr et www.tntv.pf   \n
URL:https://www.maisondelaculture.pf/evenement/heiva-i-tahiti-remise-des-prix/
LOCATION:Boulevard Pomare\, Papeete\, 98713\, Polynésie Française
CATEGORIES:Newsletter,Spectacles, Concerts, Théatre
ATTACH;FMTTYPE=image/jpeg:https://www.maisondelaculture.pf/cms/wp-content/uploads/2017/06/Trophées.jpg
ORGANIZER;CN="Maison%20de%20la%20Culture":MAILTO:communication@maisondelaculture.pf
END:VEVENT
END:VCALENDAR