BEGIN:VCALENDAR
VERSION:2.0
PRODID:-//Maison de la Culture de Tahiti - Te Fare Tauhiti Nui - ECPv4.9.10//NONSGML v1.0//EN
CALSCALE:GREGORIAN
METHOD:PUBLISH
X-WR-CALNAME:Maison de la Culture de Tahiti - Te Fare Tauhiti Nui
X-ORIGINAL-URL:https://www.maisondelaculture.pf
X-WR-CALDESC:Évènements pour Maison de la Culture de Tahiti - Te Fare Tauhiti Nui
BEGIN:VTIMEZONE
TZID:Pacific/Tahiti
BEGIN:STANDARD
TZOFFSETFROM:-1000
TZOFFSETTO:-1000
TZNAME:-10
DTSTART:20180101T000000
END:STANDARD
END:VTIMEZONE
BEGIN:VEVENT
DTSTART;TZID=Pacific/Tahiti:20180711T180000
DTEND;TZID=Pacific/Tahiti:20180714T180000
DTSTAMP:20191123T071720
CREATED:20171219T213219Z
LAST-MODIFIED:20180710T232227Z
UID:7546-1531332000-1531591200@www.maisondelaculture.pf
SUMMARY:Heiva i Tahiti 2018 : 2ème semaine de concours
DESCRIPTION:Sous l’égide du Ministère de la Culture\, l’édition 2018 du Heiva i Tahiti rassemble plus d’une trentaine de concurrents pour 8 soirées de concours intenses. Ainsi le public pourra admirer sur la scène mythique de To’ata 18 formations en catégorie chant et 19 groupes de danse. \nDu 04 au 21 juillet 2018\, ne résistez pas à l’appel envoûtant du Heiva. Il résonne jusqu’au fond des vallées\, attire des milliers de danseurs au son sourd du pahu ; les gestes se travaillent jusqu’à l’épuisement\, des centaines de petites mains cousent les derniers coquillages sur les tailles des grands costumes\, apportent la dernière touche au costume végétal\, les chefs de groupes\, d’orchestre et chorégraphes peaufinent les chorégraphies\, les musiques\, les chants. Les cœurs battent\, les chanteurs s’avancent\, les danseurs s’élancent… \nBienvenue au Heiva i Tahiti 2018 ! \nPROGRAMME DES SOIRÉES : \nMERCREDI 11 JUILLET\n18h00 – 18h10 Présentation de la soirée\n18h20 – 18h50 TAMARII VAI UMETE – Tärava Tahiti\n19h00 – 20h00 NATIHAU – Hura ava tau\n20h10 – 20h40 TE PAPE ORA NO PAPOFAI – Tärava Tahiti\n20h50 – 21h20 HEIRURUTU – Tärava tuha’a pae\n21h30 – 22h30 TAHITI IA RURU-TU-NOA – Hura tau \nJEUDI 12 JUILLET\n18h00 – 18h10 Présentation de la soirée\n18h20 – 19h20 PARATA – Hura ava tau\n19h30 – 20h00 TAMA NO AIMEHO NUI – Tärava Tahiti\n20h10 – 20h40 TAMANUI APATOA NO PAPARA – Tärava tuha’a pae\n20h50 – 21h50 NONAHERE – Hura tau \nVENDREDI 13 JUILLET\n18h00 – 18h10 Présentation de la soirée\n18h20 – 19h20 PUPU ORI TAMARII VAIRAO – Hura ava tau\n19h30 – 20h00 TAMARII RAPA NO TAHITI – Tärava tuha’a pae\n20h10 – 21h10 TE TIARE NO BEACHCOMBER – Hura tau\n21h20 – 21h50 O FAAA – Tärava Raromatai\n22h00 – 23h00 HEIKURA NUI – Hura tau \nSAMEDI 14 JUILLET\n18h00 – 18h10 Présentation de la soirée\n18h20 – 18h50 TAMARII PAPEARI – Tärava Tahiti\n19h00 – 20h00 TAHITI HURA – Hura ava tau\n20h10 – 20h40 TAMARII MATAIEA – Tärava Tahiti\n20h50 – 21h20 TE AO URI NO TE-ARA-HITI – Tärava Raromatai\n21h30 – 22h30 NUNA’A E HAU – Hura tau \nMERCREDI 18 JUILLET\n19h30 – 21h30 : Remise des prix du Heiva i Tahiti 2018 \nVENDREDI 20 JUILLET\n18h00 – 23h00 : Soirée des lauréats \nSAMEDI 21 JUILLET\n18h00 – 23h00 : Soirée Taupiti \nTarifs des concours et Taupiti i To’atā :\nTribune centrale : 3 000 Fcfp (adultes) / 1 500 Fcfp (enfants de 2 à 11 ans) / 1 500 Fcfp (PMR + accompagnateur) /– de 2 ans : Gratuit sur demande d’un billet BB\nTribunes latérales : 2 000 Fcfp (adultes) / 1 000 Fcfp (enfants de 2 à 11 ans) / 1 500 Fcfp (PMR + accompagnateur) /– de 2 ans : Gratuit sur demande d’un billet BB* \nRemise des prix : Gratuit sur demande d’un ticket. \nTarifs de la soirée des lauréats :\nTribune centrale : 4 000 Fcfp (adultes) / 1 500 Fcfp (enfants de 2 à 11 ans) / 1 500 Fcfp (PMR + accompagnateur) /– de 2 ans : Gratuit sur demande d’un billet BB\nTribunes latérales : 2 500 Fcfp (adultes) / 1 000 Fcfp (enfants de 2 à 11 ans) / 1 500 Fcfp (PMR + accompagnateur) /– de 2 ans : Gratuit sur demande d’un billet BB* \nVente des places uniquement à la Maison de la Culture et en ligne sur www.heiva.org\nNous n’acceptons que les francs pacifiques\, merci de faire le change de vos devises.\nCarte bancaire dont Amex et JCB acceptées\n* Les enfants de moins de deux ans doivent avoir un ticket « bébé » à demander à la caisse. \nDates et horaires des ventes :\nDu lundi au jeudi de 8h à 17h\, vendredi de 8h à 16h\nLes soirs de spectacle 1h30 avant le début de la soirée. \n
URL:https://www.maisondelaculture.pf/evenement/heiva-i-tahiti-2018-2/
LOCATION:Place To’atā\, Papeete\, Polynésie Française
CATEGORIES:Newsletter,Spectacles, Concerts, Théatre
ATTACH;FMTTYPE=image/jpeg:https://www.maisondelaculture.pf/cms/wp-content/uploads/2017/12/Affiche-OFF-HEIVA-I-TAHITI-2018.jpg
ORGANIZER;CN="Maison%20de%20la%20Culture":MAILTO:communication@maisondelaculture.pf
END:VEVENT
END:VCALENDAR