BEGIN:VCALENDAR
VERSION:2.0
PRODID:-//Maison de la Culture de Tahiti - Te Fare Tauhiti Nui - ECPv4.9.10//NONSGML v1.0//EN
CALSCALE:GREGORIAN
METHOD:PUBLISH
X-WR-CALNAME:Maison de la Culture de Tahiti - Te Fare Tauhiti Nui
X-ORIGINAL-URL:https://www.maisondelaculture.pf
X-WR-CALDESC:Évènements pour Maison de la Culture de Tahiti - Te Fare Tauhiti Nui
BEGIN:VTIMEZONE
TZID:Pacific/Tahiti
BEGIN:STANDARD
TZOFFSETFROM:-1000
TZOFFSETTO:-1000
TZNAME:-10
DTSTART:20190101T000000
END:STANDARD
END:VTIMEZONE
BEGIN:VEVENT
DTSTART;TZID=Pacific/Tahiti:20190905T193000
DTEND;TZID=Pacific/Tahiti:20190907T193000
DTSTAMP:20191122T132307
CREATED:20190827T220431Z
LAST-MODIFIED:20190827T220440Z
UID:11018-1567711800-1567884600@www.maisondelaculture.pf
SUMMARY:Guillaume Bats « HORS CADRE »\, du 05 au 07 septembre 2019 au Petit théâtre
DESCRIPTION:PACL EVENTS présente Guillaume BATS avec son dernier spectacle « HORS CADRE »\, du 05 au 07 septembre 2019 au Petit théâtre de la Maison de la culture de Papeete pour un show irrévérencieux\, explosif et qui repoussera vos limites et celles de l’humour. \nGuillaume BATS\, la bête noire de l’humour est de retour avec son spectacle décapant.  Est-il contagieux ? Est-ce qu’il penche à droite par conviction politique ? Est-ce qu’il s’appelle « Bats » parce qu’on le confond souvent avec une chauve-souris ? Pour le découvrir\, on vous donne rendez-vous du 05 au 07 septembre 2019 au Petit théâtre. \nNé le 14 avril 1987 à Reims\, Guillaume Bats un humoriste\, auteur et chroniqueur français. Il a comme particularité d’être atteint de la maladie des os de verre. Il « monte à Paris » en 2007. C’est là qu’il élabore ses premiers sketchs\, jusqu’à constituer une toute première version d’un spectacle\, qui existera peu de temps plus tard : « Tous tordus » ! Il se fait repérer\, par le biais de sketchs diffusés sur internet. C’est ainsi que plusieurs grands noms de l’humour et de la scène française le repèrent lui proposent leurs premières parties. C’est le cas d’Anthony Kavanagh\, Jean-Marie Bigard\, Michael Gregorio\, le Comte de Bouderbala\, Jérémy Ferrari (avec qui il collaborera ensuite pour l’écriture de son nouveau spectacle)\, Jarry\, Vérino. Guillaume BATS a également été invité à de nombreuses reprises dans le plus célèbre festival d’humour européen : Le Festival de Montreux\, en Suisse. \nIl a également collaboré avec Laurent Baffie\, dans son émission « Open Bar »\, sur Enorme TV\, et incarné / joué des sketches et des personnages dans différentes pastilles. Aujourd’hui produit par Jérémy Ferrari et Eric Antoine\, Guillaume vient de terminer son second festival d’Avignon à guichet fermé. \nGuillaume reprend pour une saison artistique à la Comédie des Boulevards et est actuellement en tournée dans toute la France. \n  \n4 (bonnes) raisons d’aller voir Guillaume Bats : \n1) Ne plus avoir peur de lui\n2) Perdre vos idées reçues sur le handicap\n3) Découvrir quelques techniques pour choper des nanas en leur faisant pitié\n4) Avoir honte de rire avec lui \n  \nLa presse en parle : \nFrance 2 : «  Le phénomène de l’Humour » \nTélérama : « Un artiste au talent généreux et à la sensibilité à fleur de cœur » \nComédie + : « Autodérision et humour noir » \nFroggy’s Delight : « Un ton satirique\, libertaire\, totalement décomplexé et déculpabilisé » \nL’Officiel des spectacles : « Touchant\, irrévérencieux\, explosif » \n  \nBANDE ANNONCE : https://www.youtube.com/watch?v=w06xfyPpgmM \nLIEN VIDÉO : https://www.youtube.com/watch?v=1TXgTw1HH0A \n  \nInfos pratiques : \nDurée : 1H10 \nA partir de 10 ans \nReprésentations du jeudi au samedi à 19h30. \nTarifs : 4 500 xpf \nMoins de 18 ans : 3 500 xpf \nBillets disponibles sur www.ticketpacific.pf\, dans les magasins CARREFOUR et à RADIO1 fare ute \nRenseignements et infos au 87 23 73 86\, sur la page FB PACL EVENT et sur www.paclevents.com \nL’entrée ne sera plus autorisée dès le démarrage de la représentation. \n
URL:https://www.maisondelaculture.pf/evenement/guillaume-bats-hors-cadre-du-05-au-07-septembre-2019-au-petit-theatre/
LOCATION:Petit Théâtre\, 646 Boulevard Pomare IV\, Papeete\, Polynésie Française
CATEGORIES:Spectacles, Concerts, Théatre
ATTACH;FMTTYPE=image/jpeg:https://www.maisondelaculture.pf/cms/wp-content/uploads/2019/08/Humour-Guillaume-Bats.jpg
END:VEVENT
END:VCALENDAR