BEGIN:VCALENDAR
VERSION:2.0
PRODID:-//Maison de la Culture de Tahiti - Te Fare Tauhiti Nui - ECPv4.9.10//NONSGML v1.0//EN
CALSCALE:GREGORIAN
METHOD:PUBLISH
X-WR-CALNAME:Maison de la Culture de Tahiti - Te Fare Tauhiti Nui
X-ORIGINAL-URL:https://www.maisondelaculture.pf
X-WR-CALDESC:Évènements pour Maison de la Culture de Tahiti - Te Fare Tauhiti Nui
BEGIN:VTIMEZONE
TZID:Pacific/Tahiti
BEGIN:STANDARD
TZOFFSETFROM:-1000
TZOFFSETTO:-1000
TZNAME:-10
DTSTART:20180101T000000
END:STANDARD
END:VTIMEZONE
BEGIN:VEVENT
DTSTART;TZID=Pacific/Tahiti:20180424T090000
DTEND;TZID=Pacific/Tahiti:20180428T120000
DTSTAMP:20191123T052613
CREATED:20180404T011805Z
LAST-MODIFIED:20180404T011805Z
UID:8157-1524560400-1524916800@www.maisondelaculture.pf
SUMMARY:Exposition d'art : « Triangles Polynésiens »
DESCRIPTION:Après son exposition d’art « Mandalas no Porinetia » qui avait rencontré un franc succès l’année dernière\, Tvaite revient exposer sur les murs de la Salle Muriavai\, du 24 au 28 avril avec le thème des « Triangles polynésiens ». \nLe thème que l’artiste Tvaite a retenu pour cette nouvelle exposition est « Triangles Polynésiens ».\nSa précédente exposition « Mandalas no Porinetia » présentait des mandalas aux couleurs et motifs du Fenua.\nPour cette nouvelle exposition Tvaite ; qui est très attachée à la culture Polynésienne ; nous présente une nouvelle collection riche en cultures.\nLe triangle succède au cercle et est donc la structure dominante de ses nouvelles toiles mais au delà de la forme géométrique\, la jeune artiste s’est inspirée des pays et cultures du triangle Polynésien à savoir la Nouvelle Zélande\, Hawaii\, l’île de Pâques et bien sûr son « Fenua » adoré.\nOn retrouvera son style toujours très graphique et sa palette de couleur toujours très chatoyante avec néanmoins une nouveauté puisque l’artiste présente cette fois ci des œuvres en noir et blanc.\nTvaite rappelons-le a quitté l’enseignement il y a moins de deux ans pour vivre sa passion et son rêve de petite fille celui d’être artiste et d’en vivre.\nAujourd’hui elle est heureuse\, épanouie et se sent parfaitement à sa place. C’est cette belle énergie\, ces « good vibes » qu’elle souhaite partager et transmettre à travers ses tableaux\, qu’elle qualifie de tableaux « bien être ». \n
URL:https://www.maisondelaculture.pf/evenement/exposition-dart-triangles-polynesiens/
CATEGORIES:Expositions d'Art,Newsletter
ATTACH;FMTTYPE=image/jpeg:https://www.maisondelaculture.pf/cms/wp-content/uploads/2018/04/Expo-tevaite.jpg
ORGANIZER;CN="Maison%20de%20la%20Culture":MAILTO:communication@maisondelaculture.pf
END:VEVENT
END:VCALENDAR