BEGIN:VCALENDAR
VERSION:2.0
PRODID:-//Maison de la Culture de Tahiti - Te Fare Tauhiti Nui - ECPv4.9.10//NONSGML v1.0//EN
CALSCALE:GREGORIAN
METHOD:PUBLISH
X-WR-CALNAME:Maison de la Culture de Tahiti - Te Fare Tauhiti Nui
X-ORIGINAL-URL:https://www.maisondelaculture.pf
X-WR-CALDESC:Évènements pour Maison de la Culture de Tahiti - Te Fare Tauhiti Nui
BEGIN:VTIMEZONE
TZID:Pacific/Tahiti
BEGIN:STANDARD
TZOFFSETFROM:-1000
TZOFFSETTO:-1000
TZNAME:-10
DTSTART:20170101T000000
END:STANDARD
END:VTIMEZONE
BEGIN:VEVENT
DTSTART;TZID=Pacific/Tahiti:20170321T090000
DTEND;TZID=Pacific/Tahiti:20170325T120000
DTSTAMP:20191123T173917
CREATED:20170218T015040Z
LAST-MODIFIED:20170304T014440Z
UID:5856-1490086800-1490443200@www.maisondelaculture.pf
SUMMARY:Exposition d'art : Couleurs sous le vent
DESCRIPTION:La Maison de la Culture a le plaisir d’accueillir pour la première fois dans la salle Muriavai du 21 au 25 mars 2017 une artiste dont l’art s’incarne dans l’énergie et la couleur : \nHélène Rigolleau Couleurs sous le vent \nPastel & acrylique \nHélène Rigolleau est une ilienne\, résolument. Elle partage en effet son temps entre la Martinique\, où elle est née\, et la Nouvelle-Calédonie\, la Corse\, Madagascar\, avant de finalement poser ses valises en 2015 en Polynésie. C’est à Huahine qu’elle a choisi de s’installer pour savourer cette nouvelle escale. \nSon parcours artistique n’est pas moins riche et fait état de formations\, publications et expositions où la peinture est centrale. C’est au tour du public polynésien de pouvoir découvrir ses œuvres : dans un style naïf et coloré\, Hélène Rigolleau réinterprète les îles\, la vie de tous les jours\, avec un optimisme et une fraîcheur qui ne le cèdent en rien à l’intensité. \nVous êtes donc conviés à voyager parmi les œuvres d’une artiste pour qui la couleur est visiblement reine… Rendez vous à Muriavai ! \nVernissage : mardi 21 mars 2017 à partir de 18h \nExposition : mardi 21 au samedi 25 mars 2017 – 9h à 17h (12h le samedi) \nContacts : TFTN : 40 544 536 \n
URL:https://www.maisondelaculture.pf/evenement/exposition-dart-couleurs-sous-le-vent/
LOCATION:Salle Muriāvai\, 646 Boulevard Pomare IV\, Papeete\, Polynésie Française
CATEGORIES:Expositions d'Art,Newsletter
ATTACH;FMTTYPE=image/jpeg:https://www.maisondelaculture.pf/cms/wp-content/uploads/2017/02/Exposition-dart-Hélène-Rigolleau-Light.jpg
ORGANIZER;CN="Maison%20de%20la%20Culture":MAILTO:communication@maisondelaculture.pf
END:VEVENT
END:VCALENDAR