BEGIN:VCALENDAR
VERSION:2.0
PRODID:-//Maison de la Culture de Tahiti - Te Fare Tauhiti Nui - ECPv4.9.10//NONSGML v1.0//EN
CALSCALE:GREGORIAN
METHOD:PUBLISH
X-WR-CALNAME:Maison de la Culture de Tahiti - Te Fare Tauhiti Nui
X-ORIGINAL-URL:https://www.maisondelaculture.pf
X-WR-CALDESC:Évènements pour Maison de la Culture de Tahiti - Te Fare Tauhiti Nui
BEGIN:VTIMEZONE
TZID:Pacific/Tahiti
BEGIN:STANDARD
TZOFFSETFROM:-1000
TZOFFSETTO:-1000
TZNAME:-10
DTSTART:20170101T000000
END:STANDARD
END:VTIMEZONE
BEGIN:VEVENT
DTSTART;TZID=Pacific/Tahiti:20171017T090000
DTEND;TZID=Pacific/Tahiti:20171021T120000
DTSTAMP:20191126T112103
CREATED:20170831T213509Z
LAST-MODIFIED:20171011T214954Z
UID:6897-1508230800-1508587200@www.maisondelaculture.pf
SUMMARY:Expo d'art : Te Anuanua Art
DESCRIPTION:Le collectif est de retour à la Salle Muriavai du 17 au 21 octobre pour une exposition chaleureuse et colorée ! Rendez-vous dans nos murs pour découvrir les nouvelles œuvres de ce collectif qui ne manque jamais d’inspiration… \nLe collectif Teanuanua art illumine comme chaque année les murs de la Salle Muriavai de ses œuvres colorées et réjouissantes. C’est le thème du voyage qui a été retenu pour cette nouvelle exposition\, et qui se décline sur tous les thèmes : du bateau au paysage lointain en passant par l’expression d’ailleurs singuliers\, ce sont plus d’une quarantaine de toiles qui seront accrochées. Les artistes se sont diversifiés et nous présenteront des aquarelles\, pastels\, avec bien sûr une prédominance de la peinture à l’huile… \nUn véritable voyage immobile proposé par un collectif chaleureux\, réuni autour du plaisir de peindre… \n
URL:https://www.maisondelaculture.pf/evenement/expo-dart-te-anuanua-art/
LOCATION:Salle Muriāvai\, 646 Boulevard Pomare IV\, Papeete\, Polynésie Française
CATEGORIES:Expositions d'Art,Newsletter
ATTACH;FMTTYPE=image/jpeg:https://www.maisondelaculture.pf/cms/wp-content/uploads/2017/08/Expo-Te-anuanua-art.jpg
ORGANIZER;CN="Maison%20de%20la%20Culture":MAILTO:communication@maisondelaculture.pf
END:VEVENT
END:VCALENDAR