BEGIN:VCALENDAR
VERSION:2.0
PRODID:-//Maison de la Culture de Tahiti - Te Fare Tauhiti Nui - ECPv4.9.10//NONSGML v1.0//EN
CALSCALE:GREGORIAN
METHOD:PUBLISH
X-WR-CALNAME:Maison de la Culture de Tahiti - Te Fare Tauhiti Nui
X-ORIGINAL-URL:https://www.maisondelaculture.pf
X-WR-CALDESC:Évènements pour Maison de la Culture de Tahiti - Te Fare Tauhiti Nui
BEGIN:VTIMEZONE
TZID:Pacific/Tahiti
BEGIN:STANDARD
TZOFFSETFROM:-1000
TZOFFSETTO:-1000
TZNAME:-10
DTSTART:20170101T000000
END:STANDARD
END:VTIMEZONE
BEGIN:VEVENT
DTSTART;TZID=Pacific/Tahiti:20171121T090000
DTEND;TZID=Pacific/Tahiti:20171125T120000
DTSTAMP:20191126T111517
CREATED:20170831T214146Z
LAST-MODIFIED:20171110T184954Z
UID:6903-1511254800-1511611200@www.maisondelaculture.pf
SUMMARY:Expo d'art : Stéphane Motard et Gilles Naras
DESCRIPTION:Ce mois-ci la Salle Muriavai accueille les sculptures de Gilles Naras et Stéphane Motard du 21 au 25 novembre 2017. Les pierres n’ont pas de secrets pour eux\, qui dialoguent avec passion et patience au quotidien avec cette matière aux multiples reflets. \nEbéniste de formation\, Gilles Naras a une idée fixe : celle du voyage. L’Europe\, l’Afrique\, puis un tour du monde qui le mène à Tahiti et le laisse sous le charme de nos îles. D’abord engagé auprès de l’enfance inadaptée\, il revient à son métier d’origine et en 2011 se met à la pierre\, rencontre du hasard et de son travail dans la bijouterie artisanale. Des luminaires naissent\, des objets usuels revisités\, portés par une technique très personnelle qui consiste à reconstituer des pierres découpées en les mêlant à d’autres matériaux. Le bois\, le plexiglass\, apportent les jeux de transparence et de matière\, au gré des formes créées par la nature… \nStéphane Motard est pour sa part amoureux des lignes\, des volumes et des formes organiques. Il passe du travail de la résine pour les bateaux au travail de la pierre et exprime sa sensibilité en tant que sculpteur désormais. Le basalte des vallées de Tahiti et la phonolite de Moorea nourrissent son inspiration ; formes et coloris donnent naissance à des formes épurées\, angles saillants et galbes généreux. Illuminées par le poli de la pierre\, les œuvres tournent sur elles-mêmes\, s’admirent de toutes parts et donnent corps à une inspiration polynésienne autour du regard. \n  \n
URL:https://www.maisondelaculture.pf/evenement/expo-dart-stephane-motard-mateitei-tetuanui/
LOCATION:Salle Muriāvai\, 646 Boulevard Pomare IV\, Papeete\, Polynésie Française
CATEGORIES:Expositions d'Art,Newsletter
ATTACH;FMTTYPE=image/jpeg:https://www.maisondelaculture.pf/cms/wp-content/uploads/2017/08/Expo-Motard-Naras-2.jpg
ORGANIZER;CN="Maison%20de%20la%20Culture":MAILTO:communication@maisondelaculture.pf
END:VEVENT
END:VCALENDAR