BEGIN:VCALENDAR
VERSION:2.0
PRODID:-//Maison de la Culture de Tahiti - Te Fare Tauhiti Nui - ECPv4.9.10//NONSGML v1.0//EN
CALSCALE:GREGORIAN
METHOD:PUBLISH
X-WR-CALNAME:Maison de la Culture de Tahiti - Te Fare Tauhiti Nui
X-ORIGINAL-URL:https://www.maisondelaculture.pf
X-WR-CALDESC:Évènements pour Maison de la Culture de Tahiti - Te Fare Tauhiti Nui
BEGIN:VTIMEZONE
TZID:Pacific/Tahiti
BEGIN:STANDARD
TZOFFSETFROM:-1000
TZOFFSETTO:-1000
TZNAME:-10
DTSTART:20170101T000000
END:STANDARD
END:VTIMEZONE
BEGIN:VEVENT
DTSTART;TZID=Pacific/Tahiti:20171024T090000
DTEND;TZID=Pacific/Tahiti:20171028T120000
DTSTAMP:20191126T111816
CREATED:20170831T213758Z
LAST-MODIFIED:20171011T222251Z
UID:6900-1508835600-1509192000@www.maisondelaculture.pf
SUMMARY:Expo d'art : Marie Ange Vinot
DESCRIPTION:Marie Ange Vinot exposera à la Salle Muriavai une quarantaine d’aquarelles inspirées des paysages de la Polynésie. A admirer du 24 au 28 octobre… \nMarie-Ange Vinot dessine depuis l’enfance\, jusqu’à abandonner en Australie en 1992 ses activités professionnelles pour s’initier à la peinture à l’huile. De 1994 à 1997 la vie de nomade qu’elle choisit l’oblige à abandonner ce médium\, elle s’adonne alors à l’aquarelle plus compatible avec des déplacements incessants. \nEntièrement autodidacte\, elle multiplie croquis\, esquisses\, études sur le vif\, toujours à la recherche de la lumière et de la transparence. \nTreize ans après son arrivée à Tahiti\, elle réalise une première exposition de 48 tableaux qui a conquis un large public. Des proches de son entourage la pressent de leur enseigner les rudiments de l’aquarelle\, ce qui aboutit à des cours hebdomadaires à son domicile du 28 février au 28 novembre de l’année 2014. \nDivers handicaps  ensuite ont retardé son activité artistique.  Elle n’a pu reprendre ses pinceaux et retrouver le bonheur de peindre qu’en début d’année 2016. \nCette prochaine exposition présentera 40 aquarelles inspirées par la luxuriance des îles\, des atolls\, de leur faune et de leur flore. Encouragée par la cordialité polynésienne\, qui n’est pas un mythe\, elle aime traduire des scènes de la vie quotidienne : décoration d’un miroir\, fabrication de bouquets\, animation d’un marché local\, sourires d’enfants\, leurs jeux\, leur simplicité\, leur naïveté… \nTahiti et sa couronne offrent tant d’opportunités ! \n
URL:https://www.maisondelaculture.pf/evenement/expo-dart-marie-ange-vinot/
LOCATION:Salle Muriāvai\, 646 Boulevard Pomare IV\, Papeete\, Polynésie Française
CATEGORIES:Expositions d'Art,Newsletter
ATTACH;FMTTYPE=image/jpeg:https://www.maisondelaculture.pf/cms/wp-content/uploads/2017/08/Expo-Marie-Ange-Vinot.jpg
ORGANIZER;CN="Maison%20de%20la%20Culture":MAILTO:communication@maisondelaculture.pf
END:VEVENT
END:VCALENDAR