BEGIN:VCALENDAR
VERSION:2.0
PRODID:-//Maison de la Culture de Tahiti - Te Fare Tauhiti Nui - ECPv4.9.10//NONSGML v1.0//EN
CALSCALE:GREGORIAN
METHOD:PUBLISH
X-WR-CALNAME:Maison de la Culture de Tahiti - Te Fare Tauhiti Nui
X-ORIGINAL-URL:https://www.maisondelaculture.pf
X-WR-CALDESC:Évènements pour Maison de la Culture de Tahiti - Te Fare Tauhiti Nui
BEGIN:VTIMEZONE
TZID:Pacific/Tahiti
BEGIN:STANDARD
TZOFFSETFROM:-1000
TZOFFSETTO:-1000
TZNAME:-10
DTSTART:20180101T000000
END:STANDARD
END:VTIMEZONE
BEGIN:VEVENT
DTSTART;TZID=Pacific/Tahiti:20180327T090000
DTEND;TZID=Pacific/Tahiti:20180331T120000
DTSTAMP:20191123T060214
CREATED:20180227T015709Z
LAST-MODIFIED:20180309T235644Z
UID:7862-1522141200-1522497600@www.maisondelaculture.pf
SUMMARY:Expo d'art : Jean-Luc Bousquet
DESCRIPTION:Du 27 au 31 mars découvrez l’artiste peintre Jean-Luc Bousquet en salle Muriāvai avec cette exposition qui nous invite dans son univers fantasmagorique au travers de ces toiles aux milles nuances !  \n
URL:https://www.maisondelaculture.pf/evenement/expo-dart-jean-luc-bousquet/
LOCATION:Salle Muriāvai\, 646 Boulevard Pomare IV\, Papeete\, Polynésie Française
CATEGORIES:Expositions d'Art,Newsletter
ATTACH;FMTTYPE=image/jpeg:https://www.maisondelaculture.pf/cms/wp-content/uploads/2018/02/Expo-dart-Jean-Luc-Bousquet-1.jpg
ORGANIZER;CN="Maison%20de%20la%20Culture":MAILTO:communication@maisondelaculture.pf
END:VEVENT
END:VCALENDAR