BEGIN:VCALENDAR
VERSION:2.0
PRODID:-//Maison de la Culture de Tahiti - Te Fare Tauhiti Nui - ECPv4.9.10//NONSGML v1.0//EN
CALSCALE:GREGORIAN
METHOD:PUBLISH
X-WR-CALNAME:Maison de la Culture de Tahiti - Te Fare Tauhiti Nui
X-ORIGINAL-URL:https://www.maisondelaculture.pf
X-WR-CALDESC:Évènements pour Maison de la Culture de Tahiti - Te Fare Tauhiti Nui
BEGIN:VTIMEZONE
TZID:Pacific/Tahiti
BEGIN:STANDARD
TZOFFSETFROM:-1000
TZOFFSETTO:-1000
TZNAME:-10
DTSTART:20170101T000000
END:STANDARD
END:VTIMEZONE
BEGIN:VEVENT
DTSTART;TZID=Pacific/Tahiti:20171128T090000
DTEND;TZID=Pacific/Tahiti:20171202T120000
DTSTAMP:20191126T111222
CREATED:20170831T214356Z
LAST-MODIFIED:20171205T211843Z
UID:6907-1511859600-1512216000@www.maisondelaculture.pf
SUMMARY:Expo d'art : Gotz - Pitomania
DESCRIPTION:Du 28 novembre au 2 décembre Gotz donne rendez-vous à tous les fans de PITO MA à la Salle Muriavai pour une exposition fun et 100% local dédiée à tous les personnages rigolos de sa bande dessinée ! \nQuelques mots sur l’artiste : \nGotz peint à l’acrylique sur d’épaisses toiles\, ses fonds riches en textures et matières sont marquées de lignes\, signes et dessins. Ses couleurs souvent transparentes sont contrastées et saturées\, ses tableaux offrent plusieurs niveaux de lecture\, comme des images superposées. On reconnaîtrait ses œuvres parmi d’autres…\nC’est un touche à tout car il peint aussi à l’encre de Chine sur de délicats papiers des paysages en noir et blanc.\nIl vit depuis 1991 en Polynésie française\, sur l’ile se Moorea au milieu de l’exubérante végétation d’une vallée où il a construit son atelier\, il participe régulièrement à des événements artistiques internationaux.\nIllustrateur de nombreux livres\, il a réalisé des ouvrages sur le Tatouage Polynésien et il est l’auteur de plusieurs albums de « Pito Ma » des bandes dessinées dans lesquelles il croque la vie Polynésienne avec humour\, il crée « Pito Ma Tahiti Staïle » une marque fun de tee-shirts et accessoires. Passionné de modélisme\, il développe en 2010 Gotzork\, une fabrique artisanale de personnages miniatures. \nPito et ses acolytes voient le jour : \nLancé en 2005\, le premier album de ce qui deviendra une collection de BD culte localement\, est réalisé par Gotz. Loin de se douter du succès des aventures rocambolesques de Pito et ses amis\, Gotz on est à sa 11ème édition.\nOn y retrouve Pito\, jeune local « à la cool » accompagné de Pu’a l’épicurien Paumotu\, Bob le « rastalynésien »\, Lee Fou le Chinois du coin\, Georges le popa’a — alias Rimap\, car il n’est jamais rentré en métropole après son service militaire — sans oublier les vahine de ces messieurs\, Meherio la belle surfeuse et la douce et chaleureuse Hinano\, entre autres…\nAccompagné de Toerau pour les opus 6\, 7\, 8 puis de Marotea pour les 9\, 10 et 11\, les protagonistes creusent leur personnalité et se renouvellent sans cesse grâce à une mise en scène des histoires\, des blagues\, des anecdotes et des rebondissements que l’on découvre sur chaque page. Plein d’authenticité ethnique truffée de clins d’œil aux scènes du quotidien qui nous concernent tous\, que nous avons déjà vécus\, que ce soit au magasin\, au snack\, à la plage\, à la pêche ou encore en voiture\, on se délecte des aventures — comme des péripéties — des protagonistes de Pito Ma\, qui révèle un authentique « Polynesian way of life » sans filtre ni retouche. Un hymne à la tolérance en quelque sorte\, renforcé par la solidité des liens qui rassemblent tous ces personnages\, tissés autour d’une solidarité forte renforcée au fil des albums. \nGotz a donc choisi de faire une exposition spécialement dédiée aux protagonistes de ces histoires du 28 novembre au 2 décembre. Ce sera en quelque sorte une façon de leur donner vie… \nSource : http://www.gotz.pf/ \n
URL:https://www.maisondelaculture.pf/evenement/expo-dart-gotz-retrospective/
LOCATION:Salle Muriāvai\, 646 Boulevard Pomare IV\, Papeete\, Polynésie Française
CATEGORIES:Expositions d'Art
ATTACH;FMTTYPE=image/jpeg:https://www.maisondelaculture.pf/cms/wp-content/uploads/2017/08/Exposition-dart-Gotz.jpg
ORGANIZER;CN="Maison%20de%20la%20Culture":MAILTO:communication@maisondelaculture.pf
END:VEVENT
END:VCALENDAR