BEGIN:VCALENDAR
VERSION:2.0
PRODID:-//Maison de la Culture de Tahiti - Te Fare Tauhiti Nui - ECPv4.9.10//NONSGML v1.0//EN
CALSCALE:GREGORIAN
METHOD:PUBLISH
X-WR-CALNAME:Maison de la Culture de Tahiti - Te Fare Tauhiti Nui
X-ORIGINAL-URL:https://www.maisondelaculture.pf
X-WR-CALDESC:Évènements pour Maison de la Culture de Tahiti - Te Fare Tauhiti Nui
BEGIN:VTIMEZONE
TZID:Pacific/Tahiti
BEGIN:STANDARD
TZOFFSETFROM:-1000
TZOFFSETTO:-1000
TZNAME:-10
DTSTART:20190101T000000
END:STANDARD
END:VTIMEZONE
BEGIN:VEVENT
DTSTART;TZID=Pacific/Tahiti:20191108T083000
DTEND;TZID=Pacific/Tahiti:20191111T193000
DTSTAMP:20191117T105822
CREATED:20191026T004841Z
LAST-MODIFIED:20191108T205638Z
UID:11425-1573201800-1573500600@www.maisondelaculture.pf
SUMMARY:Du 14 au 17 novembre\, tous au 19ème salon du livre !
DESCRIPTION:L’Association des éditeurs de Tahiti et des îles et la Maison de la Culture vous invitent à célébrer le livre du jeudi 14 au dimanche 17 novembre. Plus d’une quinzaine d’invités océaniens ou internationaux et de nombreux intervenants polynésiens viendront rythmer cette manifestation littéraire\, qui affiche comme chaque année un programme riche et ludique pour petits et grands\, sur le thème « Histoires d’îles ».  \n« Lire en Polynésie » est une belle occasion pour notre littérature du Pacifique de rencontrer les littératures d’ailleurs. Les échanges et les rencontres sont autant d’opportunités qui permettront à nos auteurs d’être connus et reconnus dans le pacifique mais aussi au sein d’une littérature mondiale. \nUne quinzaine d’invités\, auteurs\, illustrateurs\, artistes et acteurs du monde du Livre\, donnent rendez-vous aux lecteurs du Fenua lors de présentations d’ouvrages\, rencontres\, tables rondes\, conférences et dédicaces. Les éditeurs polynésiens présenteront près de 30 nouveautés\, accompagnés des écrivains locaux. Des ateliers d’illustration et d’écriture\, des projections de films et documentaires sont proposés au public\, avec un programme d’animations spécifique dédié à la jeunesse et aux familles le weekend. \n  \nLes exposants du salon  \n\nLes éditeurs de l’AETI\nLes libraires : Book’in (Calédonie)\nLa Bibliothèque de l’Université de la Polynésie française\nL’imprimerie STP Multipress & Fast Print\n\n  \nAu programme\, des histoires… À découvrir\, écouter\, lire et savourer\, à offrir\, à échanger et partager\, à écrire\, lire et dessiner\, à voir et à chanter … Le plein d’histoires pour petits et grands. \n  \nSur la scène littéraire : \n\nPrésentation des nouveautés (invités et auteurs locaux)\nConférences\, débats et tables rondes inspirés du thème « histoires d’îles »\nRencontres avec les auteurs et dédicaces\nDécouvertes d’îles à travers les auteurs avec le cycle de Rencontre « Reflets d’îles »\nLectures et animations présentées par l’UPF\nLectures musicales\nContes\nSoirée Poésie Slam\, avec Paul Wamo\nSpectacle Pina’ina’i 9.19\n\n  \nAnimations : \n\nClub de lecture de TFTN\nLes histoires à savourer avec les midis gourmands\nCyber island espace : l’univers des îles dans les jeux vidéos\n Projections de films et documentaires\, en partenariat avec le FIFO\nLe Book dating\nLa pause lecture\n\n  \nConcours : \n\nConcours d’écriture « chroniques des îles » en partenariat avec Polynésie Première et Tahiti Infos\nConcours d’écriture jeunesse « île était une fois … mon récif » en partenariat avec l’IRCP\n\n  \nLes ateliers adultes (semaine) : \n\nAtelier d’écriture avec Ingrid Astier\nAtelier carnet de voyage avec Ingrid Astier\nAtelier Slam avec Paul Wamo\n\n  \nLes animations jeunesse et famille tout public (weekend) : \n\nAtelier carnet de voyage avec Ingrid Astier\nAtelier Slam avec Paul Wamo\nAtelier Bande Dessinée avec Niko\nConcerts des comptineurs de Tahiti\nLes animations de l’Association Polynélivre (Kamishibai \, chuchoteur et lectures animées…)\nLectures pour les tout petits \n\nLe programme complet du Salon sur le lien suivant :  http://www.lireenpolynesie.com/wp-content/uploads/2016/10/LeJournal2019Light.pdf \n \n\nInfos pratiques \nSalon : 19ème salon du livre « histoires d’îles » \nAETI/TFTN \nJeudi 14 & vendredi 15 : 8h à 19h30 \nSamedi 16 : 8h30 à 19h30 \nDimanche 17 : 8h30 à 17h30 \nExpo-vente\, rencontres\, débats\, dédicaces\, jeux\, animations\, projections\, contes\, siestes acoustiques\, ateliers pour enfants et adultes et des surprises ! \nEntrée libre \nPlus d’infos : lireenpolynesie@mail.pf \n40 50 95 93 / 89 40 77 73 \nEt n’oubliez pas de suivre le Salon sur FB https://www.facebook.com/lireenpolynesie?fref=ts \nJardins et espaces de la Maison de la Culture \n
URL:https://www.maisondelaculture.pf/evenement/du-14-au-17-novembre-tous-au-19eme-salon-du-livre/
LOCATION:Espaces de la Maison de la Culture\, Papeete\, Polynésie Française
CATEGORIES:Festivals, Salons,Newsletter
ATTACH;FMTTYPE=image/jpeg:https://www.maisondelaculture.pf/cms/wp-content/uploads/2019/10/SALON-DU-LIVRE-2019-A4-web.jpg
ORGANIZER;CN="Maison%20de%20la%20Culture":MAILTO:communication@maisondelaculture.pf
END:VEVENT
END:VCALENDAR