BEGIN:VCALENDAR
VERSION:2.0
PRODID:-//Maison de la Culture de Tahiti - Te Fare Tauhiti Nui - ECPv4.9.10//NONSGML v1.0//EN
CALSCALE:GREGORIAN
METHOD:PUBLISH
X-WR-CALNAME:Maison de la Culture de Tahiti - Te Fare Tauhiti Nui
X-ORIGINAL-URL:https://www.maisondelaculture.pf
X-WR-CALDESC:Évènements pour Maison de la Culture de Tahiti - Te Fare Tauhiti Nui
BEGIN:VTIMEZONE
TZID:Pacific/Tahiti
BEGIN:STANDARD
TZOFFSETFROM:-1000
TZOFFSETTO:-1000
TZNAME:-10
DTSTART:20180101T000000
END:STANDARD
END:VTIMEZONE
BEGIN:VEVENT
DTSTART;TZID=Pacific/Tahiti:20180323T193000
DTEND;TZID=Pacific/Tahiti:20180323T193000
DTSTAMP:20191123T061726
CREATED:20180209T031359Z
LAST-MODIFIED:20180302T025910Z
UID:7795-1521833400-1521833400@www.maisondelaculture.pf
SUMMARY:Concert : Louane
DESCRIPTION:Pour la première fois à Tahiti la chanteuse Louane sera en concert sur To’ata le 23 mars\, un événement à ne pas rater !\nAprès le triomphe de « Chambre 12 » vendu à plus d’1 million d’exemplaires\, une reconnaissance de ses pairs avec une Victoire de la musique et plusieurs NRJ Awards\, Louane confirme son succès avec un nouvel album éponyme entré directement #1 des ventes en France et déjà disque de platine 1 mois à peine après sa sortie.\nLa jeune artiste\, auteur-compositeur-interprète signe également son retour gagnant sur scène avec une tournée des clubs en février et mars 2018\, déjà sold out.\nBasé sur ce succès et les tubes « On était beau » (classé en haut de l’airplay radio et des charts dès sa sortie) et « Si t’étais là »\, nouveau single qui s’installe en haut du top titres fusionné avec un rythme croissant de plus d’un million de streams par semaine\, et dont le clip cumule déjà près de 10 millions de vues\, Louane annonce aujourd’hui une tournée des Zéniths qui débutera en mai et durera jusqu’à la fin de l’année 2018.\nAu cours de cette tournée longuement préparée et ambitieuse\, Louane présentera son nouvel album composé de 15 titres pop signé par elle-même pour 3 d’entre eux (« Sans arrêt »\, « Immobile » et « Jour de pluie ») mais aussi par Benjamin Biolay (« Ecchymoses »)\, Julien Doré (« Midi sur Novembre »\, « Nuits Pourpres »)\, Tim Dup (« Sans arrêt »\, « Blonde »)\, Loic Nottet (« No »)\, son ami Vianney (« Lego ») ou encore du groupe américain The Chainsmokers (« It won’t kill ya ») \nTous les tubes composeront un nouveau show puissant et évènementiel dans les plus grandes salles de France ainsi qu’à Tahiti pour un concert unique le vendredi 23 mars à 19h30 ! \n
URL:https://www.maisondelaculture.pf/evenement/concert-louane/
LOCATION:Place To’atā\, Papeete\, Polynésie Française
CATEGORIES:Newsletter,Spectacles, Concerts, Théatre
ATTACH;FMTTYPE=image/jpeg:https://www.maisondelaculture.pf/cms/wp-content/uploads/2018/02/Concert-Louane.jpg
END:VEVENT
END:VCALENDAR