BEGIN:VCALENDAR
VERSION:2.0
PRODID:-//Maison de la Culture de Tahiti - Te Fare Tauhiti Nui - ECPv4.9.10//NONSGML v1.0//EN
CALSCALE:GREGORIAN
METHOD:PUBLISH
X-WR-CALNAME:Maison de la Culture de Tahiti - Te Fare Tauhiti Nui
X-ORIGINAL-URL:https://www.maisondelaculture.pf
X-WR-CALDESC:Évènements pour Maison de la Culture de Tahiti - Te Fare Tauhiti Nui
BEGIN:VTIMEZONE
TZID:Pacific/Tahiti
BEGIN:STANDARD
TZOFFSETFROM:-1000
TZOFFSETTO:-1000
TZNAME:-10
DTSTART:20170101T000000
END:STANDARD
END:VTIMEZONE
BEGIN:VEVENT
DTSTART;TZID=Pacific/Tahiti:20171015T180000
DTEND;TZID=Pacific/Tahiti:20171015T180000
DTSTAMP:20191126T100545
CREATED:20170922T221558Z
LAST-MODIFIED:20171011T194846Z
UID:7049-1508090400-1508090400@www.maisondelaculture.pf
SUMMARY:Concert : Charles Aznavour
DESCRIPTION:Le dimanche 15 octobre prochain\, le célèbre chanteur français Charles Aznavour sera sur la scène de To’ata et interprètera ses plus grands titres pour plus d’une heure trente de concert !\nCharles Aznavour a à son actif une carrière de plus de 70 ans\, plus de 180 millions de disques vendus (le chanteur français vivant à avoir vendu le plus de disques)\, 1 200 chansons\, 80 films\, des milliers de concerts à travers le monde. Charles Aznavour est le seul chanteur français à battre tous les records d’affluence des plus grandes et plus prestigieuses salles du monde entier où il se produit.\nOutre de nombreux prix et récompenses reçus au cours de sa grande carrière\, en 1998\, Charles Aznavour a été consacré « Plus Grand Artiste du siècle » par CNN. Les chansons de Charles Aznavour ont été reprises par de nombreux artistes dont Elton John\, Edith Piaf\, Céline Dion\, Fred Astaire\, Sting\, Ray Charles\, Julio Iglesias\, Liza Minelli\, Andrea Bocelli pour n’en citer quelques-uns… \nDans les années 1950\, Charles Aznavour écrit pour Juliette Greco\, Gilbert Bécaud\, Maurice Chevalier ou encore Johnny Hallyday mais c’est en 1956 qu’il rencontre son premier succès en tant qu’interprète avant de conquérir définitivement le public en 1960 avec la chanson Je m’voyais déjà. Jusqu’en 1972\, il traverse une période faste et enchaine les succès : Les comédiens (1962)\, La Mamma (1963)\,Et pourtant (1963)\, For Me Formidable (1964)\, Emmenez-moi (1967)\, Désormais (1969) et La Bohème (1971). \nLes années 90 élèvent Charles Aznavour au rang d’ambassadeur de la chanson française. Depuis les années 2000\, il multiplie les tournées\, interprétant ses succès dans sept langues différentes\, à travers le monde\, en Europe\, Etats-Unis\, Russie\, Brésil\, Chili\, Liban\, Israël\, Australie et maintenant Tahiti !\nCe sera la première fois que cet illustre artiste nous fera l’honneur de venir chanter en Polynésie pour un concert unique et exceptionnel. \n
URL:https://www.maisondelaculture.pf/evenement/concert-charles-aznavour/
LOCATION:Place To’atā\, Papeete\, Polynésie Française
CATEGORIES:Newsletter,Spectacles, Concerts, Théatre
ATTACH;FMTTYPE=image/jpeg:https://www.maisondelaculture.pf/cms/wp-content/uploads/2017/09/Concert-Charles-Aznavour.jpg
ORGANIZER;CN="4%20events%20pacific":MAILTO:4events.pacific@gmail.com
END:VEVENT
END:VCALENDAR