BEGIN:VCALENDAR
VERSION:2.0
PRODID:-//Maison de la Culture de Tahiti - Te Fare Tauhiti Nui - ECPv4.9.10//NONSGML v1.0//EN
CALSCALE:GREGORIAN
METHOD:PUBLISH
X-WR-CALNAME:Maison de la Culture de Tahiti - Te Fare Tauhiti Nui
X-ORIGINAL-URL:https://www.maisondelaculture.pf
X-WR-CALDESC:Évènements pour Maison de la Culture de Tahiti - Te Fare Tauhiti Nui
BEGIN:VTIMEZONE
TZID:Pacific/Tahiti
BEGIN:STANDARD
TZOFFSETFROM:-1000
TZOFFSETTO:-1000
TZNAME:-10
DTSTART:20170101T000000
END:STANDARD
END:VTIMEZONE
BEGIN:VEVENT
DTSTART;TZID=Pacific/Tahiti:20170717T083000
DTEND;TZID=Pacific/Tahiti:20170721T163000
DTSTAMP:20191126T150548
CREATED:20170522T211007Z
LAST-MODIFIED:20170608T210949Z
UID:6362-1500280200-1500654600@www.maisondelaculture.pf
SUMMARY:Ateliers de vacances juillet 2017
DESCRIPTION:Vous ne savez pas comment occuper vos enfants durant les vacances de juillet ? Ne cherchez plus : la Maison de la Culture donne rendez-vous aux enfants de 3 à 15 ans du 3 au 21 juillet 2017 ! \nSemaine 1 : du 03 au 07 juillet\nSemaine 2 : du 10 au 13 juillet\nSemaine 3 : du 17 au 21 juillet \nPOTERIE (Semaines 1 et 3) avec Edelweiss Yuen Thin Soi\nDe 5 à 7 ans et de 8 à 13 ans\nLes enfants à partir de 7 ans découvriront le travail de l’argile et ses infinies possibilités. Ils seront accompagnés dans la réalisation de petits objets\, bougeoirs\, boîte à bijoux\, coquetiers\, plats… Savoir-faire et créativité font de cet atelier complet un moment de communion avec la matière au travers d’un apprentissage ludique. Vos enfants reviendront ravis\, en ayant découvert les techniques au colombin\, peinture\, vernis\, cuisson (+ 1 000F pour l’argile). \nART PLASTIQUES (Semaines 1 et 2) avec Valérie Delahaye\nDe 4 à 6 ans et de 7 à 13 ans\nValérie Delahaye est décoratrice professionnelle et propose aux enfants de réaliser une création dans le cadre de son atelier. Découverte des techniques de peinture\, mosaïque\, peinture sur verre ou vitrail\, la décoration et la réalisation d’objets permettront de laisser libre cours à la créativité de votre enfant ! \nJEUX DE SOCIETE (Les trois semaines) avec Soizick\nDe 3 à 13 ans\nSoizick est animatrice socioculturelle diplômée d’Etat et accueille les enfants autour de jeux de société de toutes sortes. Parmi la centaine de jeux qu’elle a à son répertoire\, nul doute que votre enfant trouvera celui qui lui plaira ! L’atelier permet d’éveiller les enfants au plaisir du jeu de façon aussi ludique qu’éducative tout en sensibilisant les petits participants aux principes de la vie en société : jouer chacun son tour\, accepter perdre\, savoir gagner… et surtout s’amuser ! \nEVEIL CORPOREL (Semaine 1) avec Isabelle Balland\nDe 3 à 5 ans\nMaîtrise du corps\, notion de temps\, d’espace\, relation avec l’autre\, l’imaginaire… cet atelier permet aux tout-petits de se situer et de bien grandir en découvrant son environnement et ses propres capacités. \nECHECS (Les trois semaines) avec Teiva Tehevini\nDe 6 à 13 ans\nUn atelier pour découvrir toutes les règles de ce jeu stratégique et passionnant : les pièces\, les pions\, les mats\, les échecs\, les pats et les parties nulles ; le règlement concernant le comportement des joueurs\, les différentes phases d’une partie. Pour finir ces ateliers en beauté\, un tournoi est organisé. \nGRAINES DE PARFUMEURS (Les trois semaines) avec Lovaina Guirao\nDe 4 à 7 ans et de 8 à 13 ans\nLe but de cet atelier est de découvrir les matières premières\, d’apprendre à les reconnaître afin de pouvoir créer sa première eau parfumée. Il s’agit d’une approche du monde des parfums sous forme de jeux et de travaux manuels\, jusqu’à créer une composition finale avec eau parfumée à la dernière séance. \nEVEIL MUSICAL (Semaines 1 et 2) avec Cypraea Pagnon\nDe 3 à 6 ans\nCypraea permet aux enfants d’accéder naturellement à la musique par le jeu\, d’éveiller leur curiosité avec différents instruments\, de découvrir de nouvelles sonorités\, jouer avec le son\, développer la connaissance corporelle et éduquer la sensibilité\, la confiance en soi\, les facultés affectives\, motrices et les sens. \nTHÉÂTRE (Les trois semaines) avec Nicolas Arnould\nDe 6 à 10 ans et de 11 à 15 ans\nL’improvisation\, le travail de la voix\, de la mémoire\, les jeux de scène développent la sensibilité\, l’imagination\, la créativité des enfants. Ils apprennent l’humilité\, la rigueur\, le goût du risque et gagnent une plus grande assurance en public. Cet atelier contribue à libérer le corps\, la voix et la gestuelle tout en stimulant l’esprit d’équipe et la capacité de travailler ensemble. Un véritable atelier de la vie ! \nTRESSAGE (Les trois semaines) avec Marie Ruaud – NOUVEAU !\nDe 9 à 11 ans\nUn atelier dans lequel les enfants apprendront à fabriquer divers objets grâce au tressage. \nJARDIN MINIATURES (Les trois semaines) avec Mareva Tchong\nDe 7 à 13 ans\nMareva accompagne les enfants dans la réalisation d’un jardin miniature avec des éléments naturels tels que les noix de coco\, le bois flotté\, le kere ou le sable\, du terreau et des éléments de récupération tels que des pots de compote\, yaourt\, bouteilles en plastique…\nA la fin de la semaine\, un jardin prendra forme. Le dernier jour sera consacré à l’assemblage des éléments pour obtenir un jardin parsemé de gravillons\, de lichens ou de sable noir ou blanc. \nAUTOUR DU MOUVEMENT ET DU SON (Les trois semaines) avec Sylvie Urban – NOUVEAU !\nDe 6 à 9 ans\nAfin de permettre à l’enfant d’exprimer sa sensibilité par les sons\, les mouvements\, la relaxation et de petites mises en scène. Cet atelier est très tourné vers la musique\, les enfants auront accès à quantité d’instruments venus de tous pays.\nATELIER CREATIF (Les trois semaines) avec Majo Sotomayor\nDe 7 à 13 ans\nEn sensibilisant les enfants au recyclage et en éveillant leurs idées et leurs capacités artistiques\, on peut faire de leur bureau un lieu personnalisé\, pratique et agréable. \nUNITED KIDS (Les trois semaines) avec Julie Boudou\nDe 7 à 11 ans\nViens chanter en chœur ou en solo comme les kids united ! Cet atelier s’adresse aux enfants qui ont envie de développer leur voix sur des chansons modernes. Ils seront accompagnés au piano ou au karaoké sur des morceaux choisis. Alors en avant la musique !\nFABRICATION DE JEUX ET MAQUETTES EN BOIS (Semaines 2 et 3) avec Lutin des îles – NOUVEAU !\nDe 7 à 10 ans et à partir de 11 ans\nUn atelier qui parlera aux enfants qui aiment construire des objets de leurs mains : Au programme et selon les âges\, fabrication d’un parcours de billes\, d’une pirogue à voile traditionnelle et d’un terrain de beach soccer miniature. \nTÉLÉCHARGEZ LA LISTE DES ATELIERS DE LA SEMAINE 1\nTÉLÉCHARGEZ LA LISTE DES ATELIERS DE LA SEMAINE 2\nTÉLÉCHARGEZ LA LISTE DES ATELIERS DE LA SEMAINE 3 \n
URL:https://www.maisondelaculture.pf/evenement/ateliers-de-vacances-juillet-2017/
LOCATION:Boulevard Pomare\, Papeete\, 98713\, Polynésie Française
CATEGORIES:Ateliers de vacances
ATTACH;FMTTYPE=image/jpeg:https://www.maisondelaculture.pf/cms/wp-content/uploads/2016/08/IMG_9484.jpg
ORGANIZER;CN="Maison%20de%20la%20Culture":MAILTO:communication@maisondelaculture.pf
END:VEVENT
END:VCALENDAR