BEGIN:VCALENDAR
VERSION:2.0
PRODID:-//Maison de la Culture de Tahiti - Te Fare Tauhiti Nui - ECPv4.9.10//NONSGML v1.0//EN
CALSCALE:GREGORIAN
METHOD:PUBLISH
X-WR-CALNAME:Maison de la Culture de Tahiti - Te Fare Tauhiti Nui
X-ORIGINAL-URL:https://www.maisondelaculture.pf
X-WR-CALDESC:Évènements pour Maison de la Culture de Tahiti - Te Fare Tauhiti Nui
BEGIN:VTIMEZONE
TZID:Pacific/Tahiti
BEGIN:STANDARD
TZOFFSETFROM:-1000
TZOFFSETTO:-1000
TZNAME:-10
DTSTART:20170101T000000
END:STANDARD
END:VTIMEZONE
BEGIN:VEVENT
DTSTART;TZID=Pacific/Tahiti:20171218T083000
DTEND;TZID=Pacific/Tahiti:20171222T163000
DTSTAMP:20191126T115155
CREATED:20170831T211951Z
LAST-MODIFIED:20171219T200351Z
UID:6867-1513585800-1513960200@www.maisondelaculture.pf
SUMMARY:Ateliers de décembre : 13 ateliers pour s’éclater !
DESCRIPTION:Vous ne savez pas comment occuper vos enfants durant les vacances ? Ne cherchez plus : la Maison de la Culture donne rendez-vous aux enfants de 3 à 15 ans du 18 au 22 décembre 2017 ! \nORI TAHITI avec Hinavai Raveino\nDe 4 à 13 ans\nApprendre le nom et les pas de base de la danse traditionnelle\, savoir suivre la musique et enchainer des pas et des gestes en apprenant leur signification\, en un mot les intervenants proposent aux enfants de découvrir le plaisir de la danse ! \nPOTERIE avec Edelweiss Yuen Thin Soi\nDe 5 à 7 ans et de 8 à 13 ans\nLes enfants à partir de 7 ans découvriront le travail de l’argile et ses infinies possibilités. Ils seront accompagnés dans la réalisation de petits objets\, bougeoirs\, boîte à bijoux\, coquetiers\, plats… Savoir-faire et créativité font de cet atelier complet un moment de communion avec la matière au travers d’un apprentissage ludique. Vos enfants reviendront ravis\, en ayant découvert les techniques au colombin\, peinture\, vernis\, cuisson (+ 1 000F pour l’argile). \nJEUX DE SOCIETE avec Soizick\nDe 3 à 5 ans et 7 à 13 ans\nSoizick est animatrice socioculturelle diplômée d’Etat et accueille les enfants autour de jeux de société de toutes sortes. Parmi la centaine de jeux qu’elle a à son répertoire\, nul doute que votre enfant trouvera celui qui lui plaira ! L’atelier permet d’éveiller les enfants au plaisir du jeu de façon aussi ludique qu’éducative tout en sensibilisant les petits participants aux principes de la vie en société : jouer chacun son tour\, accepter perdre\, savoir gagner… et surtout s’amuser ! \nEVEIL CORPOREL avec Isabelle Balland\nDe 3 à 5 ans\nMaîtrise du corps\, notion de temps\, d’espace\, relation avec l’autre\, l’imaginaire… cet atelier permet aux tout-petits de se situer et de bien grandir en découvrant son environnement et ses propres capacités. \nECHECS avec Teiva Tehevini\nDe 6 à 13 ans\nUn atelier pour découvrir toutes les règles de ce jeu stratégique et passionnant : les pièces\, les pions\, les mats\, les échecs\, les pats et les parties nulles ; le règlement concernant le comportement des joueurs\, les différentes phases d’une partie. Pour finir ces ateliers en beauté\, un tournoi est organisé. \nGRAINES DE PARFUMEURS avec Lovaina Guirao\nDe 5 à 7 ans\nLe but de cet atelier est de découvrir les matières premières\, d’apprendre à les reconnaître afin de pouvoir créer sa première eau parfumée. Il s’agit d’une approche du monde des parfums sous forme de jeux et de travaux manuels\, jusqu’à créer une composition finale avec eau parfumée à la dernière séance. \nEVEIL MUSICAL avec Cypraea Pagnon\nDe 3 à 6 ans\nCypraea permet aux enfants d’accéder naturellement à la musique par le jeu\, d’éveiller leur curiosité avec différents instruments\, de découvrir de nouvelles sonorités\, jouer avec le son\, développer la connaissance corporelle et éduquer la sensibilité\, la confiance en soi\, les facultés affectives\, motrices et les sens. \nTHÉÂTRE avec Nicolas Arnould\nDe 6 à 10 ans et de 11 à 15 ans\nL’improvisation\, le travail de la voix\, de la mémoire\, les jeux de scène développent la sensibilité\, l’imagination\, la créativité des enfants. Ils apprennent l’humilité\, la rigueur\, le goût du risque et gagnent une plus grande assurance en public. Cet atelier contribue à libérer le corps\, la voix et la gestuelle tout en stimulant l’esprit d’équipe et la capacité de travailler ensemble. Un véritable atelier de la vie ! \nJARDIN MINIATURE avec Mareva Tchong\nDe 7 à 13 ans\nUn atelier dans lequel les enfants apprendront à fabriquer divers objets grâce au tressage. \nAUTOUR DU MOUVEMENT ET DU SON avec Sylvie Urban\nDe 6 à 9 ans\nAfin de permettre à l’enfant d’exprimer sa sensibilité par les sons\, les mouvements\, la relaxation et de petites mises en scène. Cet atelier est très tourné vers la musique\, les enfants auront accès à quantité d’instruments venus de tous pays. \nATELIER CREATIF avec Majo Sotomayor\nDe 6 à 13 ans\nEn sensibilisant les enfants au recyclage et en éveillant leurs idées et leurs capacités artistiques\, on peut faire de leur bureau un lieu personnalisé\, pratique et agréable. \nFABRICATION DE JEUX ET MAQUETTES EN BOIS avec Lutin des îles\nDe 7 à 10 ans et à partir de 11 ans\nUn atelier qui parlera aux enfants qui aiment construire des objets de leurs mains : Au programme et selon les âges\, fabrication d’un parcours de billes\, d’une pirogue à voile traditionnelle et d’un terrain de beach soccer miniature. \nSCRAPBOOKING avec Anne-Laure Lepine\nDe 8 à 12 ans \nTELECHARGEZ LA LISTE DES ATELIERS DE LA SEMAINE \n
URL:https://www.maisondelaculture.pf/evenement/ateliers-de-vacances-de-noel/
LOCATION:Boulevard Pomare\, Papeete\, 98713\, Polynésie Française
CATEGORIES:Ateliers de vacances
ATTACH;FMTTYPE=image/jpeg:https://www.maisondelaculture.pf/cms/wp-content/uploads/2017/04/Atelier-jardin-miniature.jpg
ORGANIZER;CN="Maison%20de%20la%20Culture":MAILTO:communication@maisondelaculture.pf
END:VEVENT
END:VCALENDAR