BEGIN:VCALENDAR
VERSION:2.0
PRODID:-//Maison de la Culture de Tahiti - Te Fare Tauhiti Nui - ECPv4.9.10//NONSGML v1.0//EN
CALSCALE:GREGORIAN
METHOD:PUBLISH
X-WR-CALNAME:Maison de la Culture de Tahiti - Te Fare Tauhiti Nui
X-ORIGINAL-URL:https://www.maisondelaculture.pf
X-WR-CALDESC:Évènements pour Maison de la Culture de Tahiti - Te Fare Tauhiti Nui
BEGIN:VTIMEZONE
TZID:Pacific/Tahiti
BEGIN:STANDARD
TZOFFSETFROM:-1000
TZOFFSETTO:-1000
TZNAME:-10
DTSTART:20170101T000000
END:STANDARD
END:VTIMEZONE
BEGIN:VEVENT
DTSTART;TZID=Pacific/Tahiti:20171106T083000
DTEND;TZID=Pacific/Tahiti:20171110T163000
DTSTAMP:20191126T120028
CREATED:20170831T211840Z
LAST-MODIFIED:20170922T235502Z
UID:6864-1509957000-1510331400@www.maisondelaculture.pf
SUMMARY:Ateliers de vacances
DESCRIPTION:30 octobre au 3 novembre 2017 (semaine 1)\nDu 6 au 10 novembre 2017 (semaine 2) \nAutour du mouvement et du son – de 6 à 9 ans\nFabrication de jeux et maquette en bois – de 6 à 9 ans et à partir de 11 ans (semaine 1 uniquement)\nPoterie – de 5 à 7 ans et de 8 à 13 ans\nJardins miniature – de 7 à 3 ans\nTressage – de 8 à 11 ans\nUnited kids – de 7 à 13 ans\nJeux de société – 3 à 13 ans\nAtelier créatif – de 4 à 6 ans et de 7 à 13 ans\nEchecs – 6 à 13 ans\nThéâtre – 6 à 10 ans et 11 à 15 ans\nEveil musical – 3 à 6 ans (semaine 1 uniquement)\nGraines de parfumeurs – 4 à 7 ans et de 5 à 8 ans\nEveil corporel – de 3 à 5 ans (semaine 2 uniquement) \nTarifs :\n5 680 Fcfp /atelier/semaine de 4 jours\n7 100 Fcfp /atelier/semaine de 5 jours\nTarif dégressif pour la fratrie dans le même atelier\nTarif pour toute la semaine en journée complète pour 3 ateliers avec repas inclus\n19 440 Fcfp pour la semaine de 4 jours\n24 300 Fcfp pour la semaine de 5 jours\nRenseignements au 40 544 536 – inscriptions sur place \n
URL:https://www.maisondelaculture.pf/evenement/ateliers-de-vacances-4/
LOCATION:Espaces de la Maison de la Culture\, Papeete\, Polynésie Française
CATEGORIES:Ateliers de vacances
ATTACH;FMTTYPE=image/jpeg:https://www.maisondelaculture.pf/cms/wp-content/uploads/2017/07/Atelier-Echecs-crédit-TFTN.jpg
ORGANIZER;CN="Maison%20de%20la%20Culture":MAILTO:communication@maisondelaculture.pf
END:VEVENT
END:VCALENDAR