BEGIN:VCALENDAR
VERSION:2.0
PRODID:-//Maison de la Culture de Tahiti - Te Fare Tauhiti Nui - ECPv4.9.10//NONSGML v1.0//EN
CALSCALE:GREGORIAN
METHOD:PUBLISH
X-WR-CALNAME:Maison de la Culture de Tahiti - Te Fare Tauhiti Nui
X-ORIGINAL-URL:https://www.maisondelaculture.pf
X-WR-CALDESC:Évènements pour Maison de la Culture de Tahiti - Te Fare Tauhiti Nui
BEGIN:VTIMEZONE
TZID:Pacific/Tahiti
BEGIN:STANDARD
TZOFFSETFROM:-1000
TZOFFSETTO:-1000
TZNAME:-10
DTSTART:20170101T000000
END:STANDARD
END:VTIMEZONE
BEGIN:VEVENT
DTSTART;TZID=Pacific/Tahiti:20170515T083000
DTEND;TZID=Pacific/Tahiti:20170519T083000
DTSTAMP:20191123T175906
CREATED:20170124T005942Z
LAST-MODIFIED:20170506T003635Z
UID:5655-1494837000-1495182600@www.maisondelaculture.pf
SUMMARY:Vos enfants débordent d’énergie ? Inscrivez-les aux ateliers de mai !
DESCRIPTION:Pour les vacances de mai\, la Maison de la Culture vous propose 9 ateliers réunis en un alléchant programme pour occuper vos enfants de 3 à 13 ans du 15 au 19 mai. Durant une semaine et en demi-journée\, tous pourront s’amuser de manière ludique et créative. \n\nATELIER CREATIF DECO-RECYCLAGE : Majo SOTOMAYOR \n\nDe 7 à 10 ans: 8h30-10h00  \nToujours avec du matériel de recyclage\, l’atelier créatif permettra aux participants de réaliser un tableau fleuri rempli de couleurs en techniques mixtes : collages divers\, crayons de couleurs\, feutres. \n\nÉCHECS : Teiva TEHEVINI\n\nDe 6  à 13 ans : de 8h30 à 10h00 \nPour découvrir toutes les règles de ce jeu stratégique et passionnant : les pièces\, les pions\, les mats\, les échecs\, les pats et les parties nulles\, règlement concernant le comportement des joueurs\, les différentes phases d’une partie\, sans oublier le tournoi. \n\nEVEIL MUSICAL : Cypraea PAGNON\n\nDe 3 à 6 ans : de 10h15 à 11h45  \nL’idée est de permettre aux enfants d’accéder naturellement à la musique par le jeu\, d’éveiller leur curiosité avec différents instruments\, découvrir de nouvelles sonorités\, jouer avec le son\, développer la connaissance corporelle et éduquer la sensibilité\, la confiance en soi\, les facultés affectives\, motrices et les sens. \n\nGRAINES DE PARFUMEURS : Lovaïna GUIRAO \n\nDe 4 à 7 ans : de 8h30 à 10h00 \nLe but de cet atelier est de découvrir les matières premières\, d’apprendre à les reconnaître et de pouvoir créer à la fin sa première eau parfumée. C’est une invitation à découvrir le monde des parfums de manière amusante sous forme de jeux et de travaux manuels. \n\nJARDIN MINIATURE : Mareva TCHONG / NOUVEAU !\n\nDe 7 à 10 ans : 10h15-11h45 \nMareva accompagne les enfants dans la réalisation d’un jardin miniature avec des éléments naturels tels que les noix de coco\, le bois flotté\, le kere ou le sable\, du terreau et des éléments de récupération tels que des pots de compote\, yaourt\, bouteilles en plastique… \nA la fin de la semaine\, la structure sera un ensemble qui verra un jardin prendre forme. Le dernier jour sera consacré à l’assemblage des éléments pour obtenir un jardin parsemé de gravillons\, de lichens ou de sable noir ou blanc. \n\nJEUX DE SOCIETE & D’EVEIL : SOIZICK \n\nDe 3 à 10 ans : de 8h30 à 10h00  \nSoizik accompagne le développement de la notion de plaisir en s’amusant\, en découvrant\, en créant ensemble\, en écoutant\, en jouant\, en partageant. L’atelier permet en outre d’apprendre à l’enfant à négocier dans le respect du groupe\, de se construire grâce aux jeux (imagination\, raisonnement\, stratégie\, méthode…) pour un apprentissage des règles en société. \nLa Malle à Jouer propose des jeux de société tels que SOS ouistiti\, croque carottes\, mille bornes\, Noé\, Tic tac boum\, Carcassonne\, le Lynx… Mais aussi des jouets tels que : Playmobil\, Légo\, Légo Duplo\, Mécano\, garage avec ses voitures et son tapis ville\, poupée et dinettes…. \n  \n\nPOTERIE : Edelwess YUEN THIN-SOI\n\nDe 5 à 7 ans : de 10h15 à 11h45 \nDe 8 à 10 ans : de 8h30 à 10h00 \nLes enfants découvriront le travail de l’argile et ses infinies possibilités. Ils seront accompagnés dans la réalisation de petits pots ou boîte de différentes formes… Savoir-faire et créativité font de cet atelier complet un moment de communion avec la matière au travers d’un apprentissage ludique. Et quelle satisfaction d’avoir réalisé un objet de ses mains ! (+ 1000 F pour l’argile) \n  \n\nTHÉÂTRE : Nicolas ARNOULD \n\nDe 6 à 10 ans : de 10h15 à 11h45 \nC’est un atelier complet qui permet aux participants de travailler sur l’improvisation\, la voix\, la mémoire\, aux travers de jeux de scènes et de représentations. Il leur permettra de s’affirmer\, d’avoir davantage confiance en eux\, d’améliorer leur élocution\, de développer leur imagination et leur créativité. \n\nUNITED  KIDS: Julie BOUDOU /NOUVEAU ! \n\nDe 7 à 10 ans : de 10h15 à 11h45 \nViens chanter en chœur ou en solo comme les kids united ! Cet atelier s’adresse aux enfants qui ont envie de développer leur voix sur des chansons modernes. Ils seront accompagnés au piano ou au karaoké sur des morceaux choisis. Alors en avant la musique ! \n
URL:https://www.maisondelaculture.pf/evenement/ateliers-de-mai/
LOCATION:Espaces de la Maison de la Culture\, Papeete\, Polynésie Française
CATEGORIES:Ateliers de vacances,Newsletter
ATTACH;FMTTYPE=image/jpeg:https://www.maisondelaculture.pf/cms/wp-content/uploads/2017/04/Atelier-jardin-miniature.jpg
ORGANIZER;CN="Maison%20de%20la%20Culture":MAILTO:communication@maisondelaculture.pf
END:VEVENT
END:VCALENDAR