BEGIN:VCALENDAR
VERSION:2.0
PRODID:-//Maison de la Culture de Tahiti - Te Fare Tauhiti Nui - ECPv4.9.10//NONSGML v1.0//EN
CALSCALE:GREGORIAN
METHOD:PUBLISH
X-WR-CALNAME:Maison de la Culture de Tahiti - Te Fare Tauhiti Nui
X-ORIGINAL-URL:https://www.maisondelaculture.pf
X-WR-CALDESC:Évènements pour Maison de la Culture de Tahiti - Te Fare Tauhiti Nui
BEGIN:VTIMEZONE
TZID:Pacific/Tahiti
BEGIN:STANDARD
TZOFFSETFROM:-1000
TZOFFSETTO:-1000
TZNAME:-10
DTSTART:20190101T000000
END:STANDARD
END:VTIMEZONE
BEGIN:VEVENT
DTSTART;VALUE=DATE:20190828
DTEND;VALUE=DATE:20190829
DTSTAMP:20191122T130244
CREATED:20190902T181855Z
LAST-MODIFIED:20190902T182010Z
UID:11052-1566950400-1567036799@www.maisondelaculture.pf
SUMMARY:Animations autour du livre : Rallye lecture autour de la collection « Le loup qui… » d’Orianne LALLEMAND et Eléonore THUILLIER
DESCRIPTION:Le lancement du rallye lecture débutera mercredi 28 août et s’achèvera mercredi 25 septembre avec l’élection des livres « coups de cœur ». Ce mois-ci\, nous découvrirons un loup pas comme les autres au travers de 19 albums de jeunesse dans lesquels notre personnage principal vit de nombreuses aventures avec ses amis\, partage ses sentiments\, etc. \nInfos pratiques :  \nPolynélivre / TFTN \nAccès libre \nRenseignements : 40 544 544 / FB Médiathèque de la Maison de la Culture / www.maisondelaculture.pf / \nBibliothèque enfants \n
URL:https://www.maisondelaculture.pf/evenement/animations-autour-du-livre-rallye-lecture-autour-de-la-collection-le-loup-qui-dorianne-lallemand-et-eleonore-thuillier/
LOCATION:Boulevard Pomare\, Papeete\, 98713\, Polynésie Française
CATEGORIES:Animations jeunesse
ATTACH;FMTTYPE=image/jpeg:https://www.maisondelaculture.pf/cms/wp-content/uploads/2019/09/rallye.jpg
ORGANIZER;CN="Maison%20de%20la%20Culture":MAILTO:communication@maisondelaculture.pf
END:VEVENT
END:VCALENDAR