BEGIN:VCALENDAR
VERSION:2.0
PRODID:-//Maison de la Culture de Tahiti - Te Fare Tauhiti Nui - ECPv4.9.10//NONSGML v1.0//EN
CALSCALE:GREGORIAN
METHOD:PUBLISH
X-WR-CALNAME:Maison de la Culture de Tahiti - Te Fare Tauhiti Nui
X-ORIGINAL-URL:https://www.maisondelaculture.pf
X-WR-CALDESC:Évènements pour Maison de la Culture de Tahiti - Te Fare Tauhiti Nui
BEGIN:VTIMEZONE
TZID:Pacific/Tahiti
BEGIN:STANDARD
TZOFFSETFROM:-1000
TZOFFSETTO:-1000
TZNAME:-10
DTSTART:20170101T000000
END:STANDARD
END:VTIMEZONE
BEGIN:VEVENT
DTSTART;TZID=Pacific/Tahiti:20170913T143000
DTEND;TZID=Pacific/Tahiti:20170913T143000
DTSTAMP:20191126T122933
CREATED:20170823T005035Z
LAST-MODIFIED:20170901T185428Z
UID:6774-1505313000-1505313000@www.maisondelaculture.pf
SUMMARY:Album en reo tahiti : Te tere o te tupuna
DESCRIPTION:Une nouvelle animation jeunesse s’est ajoutée en fin d’année dernière aux animations jeunesse qui ont lieu tous les mois. Il s’agit des contes et légendes en reo tahiti prévus un mercredi par mois à 14h30. Grâce à deux oratrices hors pair et académiciennes de surcroît\, Denise Raapoto et Voltina Roomataaroa-Dauphin\, les enfants pourront découvrir des histoires en tahitien faciles à comprendre et amusantes à écouter ! \nL’histoire :\nÀ travers cet album\, découvrez les anciens Polynésiens qui étaient de grands voyageurs et d’excellents navigateurs. L’album permet aussi de découvrir comment ils s’organisaient à bord de leurs pirogues.\nA découvrir mercredi 13 septembre à 14h30 en Bibliothèque enfants ! \nLes narratrices :\nNos deux conteuses sont toutes deux très concernées par la langue. \nDenise Raapoto est en effet membre de l’Académie tahitienne\, et a été à plusieurs reprises membre du jury du Heiva pour l’écriture des thèmes. Quant à Voltina Roomataaroa Dauphin\, elle est académicienne également et chef du Service de la Traduction. \nCes passionnées animent par ailleurs de petits formats en télévision pour faire découvrir le vocabulaire de tous les jours à tous les spectateurs. \n
URL:https://www.maisondelaculture.pf/evenement/album-en-reo-tahiti-te-tere-o-te-tupuna/
LOCATION:Boulevard Pomare\, Papeete\, 98713\, Polynésie Française
CATEGORIES:Animations jeunesse,Newsletter
ATTACH;FMTTYPE=image/jpeg:https://www.maisondelaculture.pf/cms/wp-content/uploads/2017/08/Jeunesse-Te-tere-o-te-tupuna.jpg
ORGANIZER;CN="Maison%20de%20la%20Culture":MAILTO:communication@maisondelaculture.pf
END:VEVENT
END:VCALENDAR