BEGIN:VCALENDAR
VERSION:2.0
PRODID:-//Maison de la Culture de Tahiti - Te Fare Tauhiti Nui - ECPv4.9.10//NONSGML v1.0//EN
CALSCALE:GREGORIAN
METHOD:PUBLISH
X-WR-CALNAME:Maison de la Culture de Tahiti - Te Fare Tauhiti Nui
X-ORIGINAL-URL:https://www.maisondelaculture.pf
X-WR-CALDESC:Évènements pour Maison de la Culture de Tahiti - Te Fare Tauhiti Nui
BEGIN:VTIMEZONE
TZID:Pacific/Tahiti
BEGIN:STANDARD
TZOFFSETFROM:-1000
TZOFFSETTO:-1000
TZNAME:-10
DTSTART:20190101T000000
END:STANDARD
END:VTIMEZONE
BEGIN:VEVENT
DTSTART;TZID=Pacific/Tahiti:20190829T193000
DTEND;TZID=Pacific/Tahiti:20190829T193000
DTSTAMP:20191122T134629
CREATED:20190806T001757Z
LAST-MODIFIED:20190824T010656Z
UID:10913-1567107000-1567107000@www.maisondelaculture.pf
SUMMARY:7ème concert To’are avec le groupe KORU !
DESCRIPTION:Voici le 7ème concert To’are organisé par la Maison de la Culture. Le terme\, qui signifie « nouvelle vague »\, symbolise l’impulsion que souhaite donner Te Fare Tauhiti Nui aux jeunes artistes musiciens et chanteurs qui lancent une carrière\, en leur offrant l’opportunité de se produire dans un cadre professionnel et d’aller à la rencontre du public. C’est sous le banian du paepae a Hiro\, un lieu magique\, que se déroulent les concerts To’are. \nLE CONCERT du 29 août 2019 avec KORU \nAprès Eto\, Nohorai\, Raumata\, Vaiteani ou encore Maruao qui ont déjà eu la chance de bénéficier de ce tremplin\, la Maison de la Culture souhaite aujourd’hui mettre en lumière le groupe KORU\, un jeune groupe qui n’hésite pas à créer ses propres morceaux. La Maison de la Culture avait déjà repéré ce groupe prometteur en mars lors du Tahiti Comedy Show où le groupe avait animé l’intermède au Grand Théâtre. \nLe groupe est né en novembre 2017 et est composé de 6 artistes : \n– Aniheitini TEPANO\, chanteur et leader du groupe\, qui joue également de l’harmonica ; \n– Hiurai TOOFA\, chanteur ; \n– Tauhiti BOOSIE\, guitariste ; \n– son frère Keanu BOOSIE\, guitariste soliste et chanteur ; \n– Moïse DAUPHIN aux percussions ; \n– et Abel TUA\, bassiste ; \n  \nAu jour d’aujourd’hui\, ces jeunes artistes se produisent principalement dans des bars\, restaurants ou des hôtels. Le concert To’are du 29 août permettra au groupe d’être exposé dans un cadre professionnel et complétement différent où il devient véritablement le centre d’attraction. C’est une situation très différente de ce à quoi ils sont habitués lorsque le groupe anime des bars ou des fêtes privées. \nUn concert avant l’album \nLe groupe enregistre actuellement son premier album en studio et réalise des clips\, dont celui de leur titre le plus célèbre « E Rahi e ».  \nLa scène du To’are sera l’occasion pour le groupe KORU de partager ses toutes nouvelles compositions pour la première fois !\n  \n\n\n\nInfos pratiques : 7ème concert To’are avec le groupe KORU \nTFTN \nLe jeudi 29 août 2019\, à 19h30 \nTarif unique : 1 500 Fcfp \nTarif PMR : 1 000 Fcfp \nBillets en vente sur place ou en ligne sur www.maisondelaculture.pf \nRenseignements au 40 544 544 – page FB : Maison de la Culture de Tahiti – www.maisondelaculture.pf \nPaepae a Hiro\n\n\n\n  \n
URL:https://www.maisondelaculture.pf/evenement/7eme-concert-toare-avec-le-groupe-koru/
LOCATION:Paepae a Hiro\, 646 Boulevard Promare IV\, Papeete\, Polynésie Française
CATEGORIES:Spectacles, Concerts, Théatre
ATTACH;FMTTYPE=image/jpeg:https://www.maisondelaculture.pf/cms/wp-content/uploads/2019/08/Affiche-OK.jpg
ORGANIZER;CN="Maison%20de%20la%20Culture":MAILTO:communication@maisondelaculture.pf
END:VEVENT
END:VCALENDAR